BEGIN:VCALENDAR
VERSION:2.0
PRODID:-//Arc of Story County - ECPv6.15.20//NONSGML v1.0//EN
CALSCALE:GREGORIAN
METHOD:PUBLISH
X-WR-CALNAME:Arc of Story County
X-ORIGINAL-URL:https://thearcstory.org
X-WR-CALDESC:Events for Arc of Story County
REFRESH-INTERVAL;VALUE=DURATION:PT1H
X-Robots-Tag:noindex
X-PUBLISHED-TTL:PT1H
BEGIN:VTIMEZONE
TZID:UTC
BEGIN:STANDARD
TZOFFSETFROM:+0000
TZOFFSETTO:+0000
TZNAME:UTC
DTSTART:20230101T000000
END:STANDARD
END:VTIMEZONE
BEGIN:VEVENT
DTSTART;TZID=UTC:20240603T180000
DTEND;TZID=UTC:20240603T193000
DTSTAMP:20260421T125412
CREATED:20240530T003258Z
LAST-MODIFIED:20240530T003258Z
UID:6176-1717437600-1717443000@thearcstory.org
SUMMARY:First Softball Practice
DESCRIPTION:Join us for the first practice of the season!
URL:https://thearcstory.org/event/first-softball-practice-2/
LOCATION:North River Valley Park\, 725 E 13th St\, Ames\, IA\, 50010\, United States
END:VEVENT
BEGIN:VEVENT
DTSTART;TZID=UTC:20240605T180000
DTEND;TZID=UTC:20240605T193000
DTSTAMP:20260421T125412
CREATED:20240530T003456Z
LAST-MODIFIED:20240530T003456Z
UID:6178-1717610400-1717615800@thearcstory.org
SUMMARY:Softball Practice
DESCRIPTION:
URL:https://thearcstory.org/event/softball-practice-27/
LOCATION:North River Valley Park\, 725 E 13th St\, Ames\, IA\, 50010\, United States
END:VEVENT
BEGIN:VEVENT
DTSTART;TZID=UTC:20240610T143000
DTEND;TZID=UTC:20240610T170000
DTSTAMP:20260421T125412
CREATED:20240606T191207Z
LAST-MODIFIED:20240606T191207Z
UID:6197-1718029800-1718038800@thearcstory.org
SUMMARY:Bowling for Fun!
DESCRIPTION:
URL:https://thearcstory.org/event/bowling-for-fun/
LOCATION:Perfect Games\, 1320 Dickinson Ave\, Ames\, IA\, 50014\, United States
END:VEVENT
BEGIN:VEVENT
DTSTART;TZID=UTC:20240610T180000
DTEND;TZID=UTC:20240610T193000
DTSTAMP:20260421T125412
CREATED:20240606T151331Z
LAST-MODIFIED:20240606T151331Z
UID:6180-1718042400-1718047800@thearcstory.org
SUMMARY:Softball Practice
DESCRIPTION:
URL:https://thearcstory.org/event/softball-practice-36/
LOCATION:IA
END:VEVENT
BEGIN:VEVENT
DTSTART;TZID=UTC:20240612T180000
DTEND;TZID=UTC:20240612T193000
DTSTAMP:20260421T125412
CREATED:20240606T151420Z
LAST-MODIFIED:20240606T151420Z
UID:6182-1718215200-1718220600@thearcstory.org
SUMMARY:Softball Practice
DESCRIPTION:
URL:https://thearcstory.org/event/softball-practice-37/
LOCATION:IA
END:VEVENT
BEGIN:VEVENT
DTSTART;TZID=UTC:20240617T143000
DTEND;TZID=UTC:20240617T170000
DTSTAMP:20260421T125412
CREATED:20240606T191247Z
LAST-MODIFIED:20240606T191247Z
UID:6199-1718634600-1718643600@thearcstory.org
SUMMARY:Bowling for Fun!
DESCRIPTION:
URL:https://thearcstory.org/event/bowling-for-fun-2/
LOCATION:IA
END:VEVENT
BEGIN:VEVENT
DTSTART;TZID=UTC:20240617T180000
DTEND;TZID=UTC:20240617T193000
DTSTAMP:20260421T125412
CREATED:20240606T151511Z
LAST-MODIFIED:20240606T151511Z
UID:6184-1718647200-1718652600@thearcstory.org
SUMMARY:Softball Practice
DESCRIPTION:
URL:https://thearcstory.org/event/softball-practice-38/
LOCATION:IA
END:VEVENT
BEGIN:VEVENT
DTSTART;TZID=UTC:20240619T180000
DTEND;TZID=UTC:20240619T193000
DTSTAMP:20260421T125412
CREATED:20240606T151603Z
LAST-MODIFIED:20240606T151603Z
UID:6186-1718820000-1718825400@thearcstory.org
SUMMARY:Softball Practice
DESCRIPTION:
URL:https://thearcstory.org/event/softball-practice-39/
LOCATION:IA
END:VEVENT
BEGIN:VEVENT
DTSTART;TZID=UTC:20240624T143000
DTEND;TZID=UTC:20240624T170000
DTSTAMP:20260421T125412
CREATED:20240606T191322Z
LAST-MODIFIED:20240606T191322Z
UID:6201-1719239400-1719248400@thearcstory.org
SUMMARY:Bowling for Fun!
DESCRIPTION:
URL:https://thearcstory.org/event/bowling-for-fun-3/
LOCATION:Perfect Games\, 1320 Dickinson Ave\, Ames\, IA\, 50014\, United States
END:VEVENT
BEGIN:VEVENT
DTSTART;TZID=UTC:20240624T180000
DTEND;TZID=UTC:20240624T193000
DTSTAMP:20260421T125412
CREATED:20240606T151657Z
LAST-MODIFIED:20240606T151657Z
UID:6188-1719252000-1719257400@thearcstory.org
SUMMARY:Softball Practice
DESCRIPTION:
URL:https://thearcstory.org/event/softball-practice-40/
LOCATION:IA
END:VEVENT
BEGIN:VEVENT
DTSTART;TZID=UTC:20240626T180000
DTEND;TZID=UTC:20240626T193000
DTSTAMP:20260421T125412
CREATED:20240606T152350Z
LAST-MODIFIED:20240606T152350Z
UID:6195-1719424800-1719430200@thearcstory.org
SUMMARY:Softball Practice
DESCRIPTION:
URL:https://thearcstory.org/event/softball-practice-41/
LOCATION:North River Valley Park\, 725 E 13th St\, Ames\, IA\, 50010\, United States
END:VEVENT
BEGIN:VEVENT
DTSTART;TZID=UTC:20240629T090000
DTEND;TZID=UTC:20240629T150000
DTSTAMP:20260421T125412
CREATED:20240606T151736Z
LAST-MODIFIED:20240606T152300Z
UID:6190-1719651600-1719673200@thearcstory.org
SUMMARY:Districts For Softball!
DESCRIPTION:
URL:https://thearcstory.org/event/last-practice-before-districts-softball-practice/
LOCATION:George Davis Softball Complex\, 4980 NE 46th St\, Des Moines\, IA\, 50317\, United States
END:VEVENT
END:VCALENDAR