BEGIN:VCALENDAR
VERSION:2.0
PRODID:-//Arc of Story County - ECPv6.15.20//NONSGML v1.0//EN
CALSCALE:GREGORIAN
METHOD:PUBLISH
X-WR-CALNAME:Arc of Story County
X-ORIGINAL-URL:https://thearcstory.org
X-WR-CALDESC:Events for Arc of Story County
REFRESH-INTERVAL;VALUE=DURATION:PT1H
X-Robots-Tag:noindex
X-PUBLISHED-TTL:PT1H
BEGIN:VTIMEZONE
TZID:UTC
BEGIN:STANDARD
TZOFFSETFROM:+0000
TZOFFSETTO:+0000
TZNAME:UTC
DTSTART:20220101T000000
END:STANDARD
END:VTIMEZONE
BEGIN:VEVENT
DTSTART;VALUE=DATE:20230904
DTEND;VALUE=DATE:20230905
DTSTAMP:20260423T105815
CREATED:20230901T231711Z
LAST-MODIFIED:20230901T231724Z
UID:5724-1693785600-1693871999@thearcstory.org
SUMMARY:No Activities
DESCRIPTION:Happy Labor Day! Enjoy your weekend!
URL:https://thearcstory.org/event/no-activities-3/
LOCATION:IA
END:VEVENT
BEGIN:VEVENT
DTSTART;TZID=UTC:20230905T180000
DTEND;TZID=UTC:20230905T193000
DTSTAMP:20260423T105815
CREATED:20230905T161717Z
LAST-MODIFIED:20230905T161717Z
UID:5752-1693936800-1693942200@thearcstory.org
SUMMARY:Volleyball
DESCRIPTION:Join us at the Attack Gym to practice for the upcoming tournament!
URL:https://thearcstory.org/event/volleyball-10/
LOCATION:All Iowa Attack Gym\, 1005 Dickinson Ave\, Ames\, IA\, United States
END:VEVENT
BEGIN:VEVENT
DTSTART;TZID=UTC:20230907T163000
DTEND;TZID=UTC:20230907T173000
DTSTAMP:20260423T105815
CREATED:20230902T010720Z
LAST-MODIFIED:20230902T010720Z
UID:5740-1694104200-1694107800@thearcstory.org
SUMMARY:Golf
DESCRIPTION:Join us to practice on the driving range and the putting green!
URL:https://thearcstory.org/event/golf-9/
LOCATION:Veenker Golf Course\, 2916 Veenker Dr\, Ames\, IA\, 50011\, United States
END:VEVENT
BEGIN:VEVENT
DTSTART;TZID=UTC:20230907T180000
DTEND;TZID=UTC:20230907T190000
DTSTAMP:20260423T105815
CREATED:20230902T010859Z
LAST-MODIFIED:20230902T010859Z
UID:5744-1694109600-1694113200@thearcstory.org
SUMMARY:Flag Football
DESCRIPTION:Come join us to practice your football skills before the tournament at the end of September!
URL:https://thearcstory.org/event/flag-football-14/
LOCATION:Inis Grove Park\, 2500 Duff Ave\, Ames\, IA\, 50010\, United States
END:VEVENT
BEGIN:VEVENT
DTSTART;TZID=UTC:20230911T143000
DTEND;TZID=UTC:20230911T170000
DTSTAMP:20260423T105815
CREATED:20230901T233732Z
LAST-MODIFIED:20230901T233732Z
UID:5726-1694442600-1694451600@thearcstory.org
SUMMARY:Bowling
DESCRIPTION:Join us at Perfect Games to continue assessing and collecting scores for the tournament in October! $2 a game!
URL:https://thearcstory.org/event/bowling-54/
LOCATION:Perfect Games\, 1320 Dickinson Ave\, Ames\, IA\, 50014\, United States
END:VEVENT
BEGIN:VEVENT
DTSTART;TZID=UTC:20230911T173000
DTEND;TZID=UTC:20230911T190000
DTSTAMP:20260423T105815
CREATED:20230802T011135Z
LAST-MODIFIED:20230802T011135Z
UID:5665-1694453400-1694458800@thearcstory.org
SUMMARY:Cooking Class
DESCRIPTION:Please follow directions given in the email with details. Please also be sure you’ve filled out a registration form so we know of any allergies.
URL:https://thearcstory.org/event/cooking-class-11/
LOCATION:Ames Middle School\, 3915 Mortensen Rd\, Ames\, IA\, 50014\, United States
END:VEVENT
BEGIN:VEVENT
DTSTART;TZID=UTC:20230912T180000
DTEND;TZID=UTC:20230912T193000
DTSTAMP:20260423T105815
CREATED:20230905T161831Z
LAST-MODIFIED:20230905T161831Z
UID:5754-1694541600-1694547000@thearcstory.org
SUMMARY:Volleyball
DESCRIPTION:Join us at the Attack Gym to practice for the upcoming tournament!
URL:https://thearcstory.org/event/volleyball-11/
LOCATION:All Iowa Attack Gym\, 1005 Dickinson Ave\, Ames\, IA\, United States
END:VEVENT
BEGIN:VEVENT
DTSTART;TZID=UTC:20230914T163000
DTEND;TZID=UTC:20230914T173000
DTSTAMP:20260423T105815
CREATED:20230902T010245Z
LAST-MODIFIED:20230902T010245Z
UID:5736-1694709000-1694712600@thearcstory.org
SUMMARY:Golf
DESCRIPTION:Join us to practice on the driving range and the putting green!
URL:https://thearcstory.org/event/golf-7/
LOCATION:Veenker Golf Course\, 2916 Veenker Dr\, Ames\, IA\, 50011\, United States
END:VEVENT
BEGIN:VEVENT
DTSTART;TZID=UTC:20230914T180000
DTEND;TZID=UTC:20230914T190000
DTSTAMP:20260423T105815
CREATED:20230902T010942Z
LAST-MODIFIED:20230902T010942Z
UID:5746-1694714400-1694718000@thearcstory.org
SUMMARY:Flag Football
DESCRIPTION:Come join us to practice your football skills before the tournament at the end of September!
URL:https://thearcstory.org/event/flag-football-15/
LOCATION:Inis Grove Park\, 2500 Duff Ave\, Ames\, IA\, 50010\, United States
END:VEVENT
BEGIN:VEVENT
DTSTART;TZID=UTC:20230918T143000
DTEND;TZID=UTC:20230918T170000
DTSTAMP:20260423T105815
CREATED:20230901T233956Z
LAST-MODIFIED:20230901T233956Z
UID:5728-1695047400-1695056400@thearcstory.org
SUMMARY:Bowling
DESCRIPTION:Join us at Perfect Games to continue assessing and collecting scores for the tournament in October! $2 a game!
URL:https://thearcstory.org/event/bowling-55/
LOCATION:Perfect Games\, 1320 Dickinson Ave\, Ames\, IA\, 50014\, United States
END:VEVENT
BEGIN:VEVENT
DTSTART;TZID=UTC:20230918T173000
DTEND;TZID=UTC:20230918T190000
DTSTAMP:20260423T105815
CREATED:20230902T005727Z
LAST-MODIFIED:20230902T005727Z
UID:5732-1695058200-1695063600@thearcstory.org
SUMMARY:Cooking Class
DESCRIPTION:Join us for our second week of cooking class at the Ames Middle School!
URL:https://thearcstory.org/event/cooking-class-12/
LOCATION:Ames Middle School\, 3915 Mortensen Rd\, Ames\, IA\, 50014\, United States
END:VEVENT
BEGIN:VEVENT
DTSTART;TZID=UTC:20230919T180000
DTEND;TZID=UTC:20230919T193000
DTSTAMP:20260423T105815
CREATED:20230905T161922Z
LAST-MODIFIED:20230905T161922Z
UID:5756-1695146400-1695151800@thearcstory.org
SUMMARY:Volleyball
DESCRIPTION:Join us at the Attack Gym to practice for the upcoming tournament!
URL:https://thearcstory.org/event/volleyball-12/
LOCATION:All Iowa Attack Gym\, 1005 Dickinson Ave\, Ames\, IA\, United States
END:VEVENT
BEGIN:VEVENT
DTSTART;TZID=UTC:20230921T163000
DTEND;TZID=UTC:20230921T173000
DTSTAMP:20260423T105815
CREATED:20230902T010644Z
LAST-MODIFIED:20230902T010644Z
UID:5738-1695313800-1695317400@thearcstory.org
SUMMARY:Golf
DESCRIPTION:Join us to practice on the driving range and the putting green!
URL:https://thearcstory.org/event/golf-8/
LOCATION:Veenker Golf Course\, 2916 Veenker Dr\, Ames\, IA\, 50011\, United States
END:VEVENT
BEGIN:VEVENT
DTSTART;TZID=UTC:20230921T180000
DTEND;TZID=UTC:20230921T190000
DTSTAMP:20260423T105815
CREATED:20230902T011022Z
LAST-MODIFIED:20230902T011022Z
UID:5748-1695319200-1695322800@thearcstory.org
SUMMARY:Flag Football
DESCRIPTION:Come join us to practice your football skills before the tournament at the end of September!
URL:https://thearcstory.org/event/flag-football-16/
LOCATION:Inis Grove Park\, 2500 Duff Ave\, Ames\, IA\, 50010\, United States
END:VEVENT
BEGIN:VEVENT
DTSTART;TZID=UTC:20230925T143000
DTEND;TZID=UTC:20230925T170000
DTSTAMP:20260423T105815
CREATED:20230901T234054Z
LAST-MODIFIED:20230901T234054Z
UID:5730-1695652200-1695661200@thearcstory.org
SUMMARY:Bowling
DESCRIPTION:Join us at Perfect Games to continue assessing and collecting scores for the tournament in October! $2 a game!
URL:https://thearcstory.org/event/bowling-56/
LOCATION:Perfect Games\, 1320 Dickinson Ave\, Ames\, IA\, 50014\, United States
END:VEVENT
BEGIN:VEVENT
DTSTART;TZID=UTC:20230925T173000
DTEND;TZID=UTC:20230925T190000
DTSTAMP:20260423T105815
CREATED:20230902T010013Z
LAST-MODIFIED:20230902T010013Z
UID:5734-1695663000-1695668400@thearcstory.org
SUMMARY:Cooking Class
DESCRIPTION:Come learn new skills and recipes with your friends!
URL:https://thearcstory.org/event/cooking-class-13/
LOCATION:Ames Middle School\, 3915 Mortensen Rd\, Ames\, IA\, 50014\, United States
END:VEVENT
BEGIN:VEVENT
DTSTART;TZID=UTC:20230926T180000
DTEND;TZID=UTC:20230926T193000
DTSTAMP:20260423T105815
CREATED:20230905T162024Z
LAST-MODIFIED:20230905T162024Z
UID:5758-1695751200-1695756600@thearcstory.org
SUMMARY:Volleyball
DESCRIPTION:Join us at the Attack Gym to practice for the upcoming tournament!
URL:https://thearcstory.org/event/volleyball-13/
LOCATION:All Iowa Attack Gym\, 1005 Dickinson Ave\, Ames\, IA\, United States
END:VEVENT
BEGIN:VEVENT
DTSTART;TZID=UTC:20230928T163000
DTEND;TZID=UTC:20230928T173000
DTSTAMP:20260423T105815
CREATED:20230902T010749Z
LAST-MODIFIED:20230902T010749Z
UID:5742-1695918600-1695922200@thearcstory.org
SUMMARY:Golf
DESCRIPTION:Join us to practice on the driving range and the putting green!
URL:https://thearcstory.org/event/golf-10/
LOCATION:Veenker Golf Course\, 2916 Veenker Dr\, Ames\, IA\, 50011\, United States
END:VEVENT
BEGIN:VEVENT
DTSTART;TZID=UTC:20230928T180000
DTEND;TZID=UTC:20230928T190000
DTSTAMP:20260423T105815
CREATED:20230902T011103Z
LAST-MODIFIED:20230902T011103Z
UID:5750-1695924000-1695927600@thearcstory.org
SUMMARY:Flag Football
DESCRIPTION:Come join us to practice your football skills before the tournament at the end of September!
URL:https://thearcstory.org/event/flag-football-17/
LOCATION:Inis Grove Park\, 2500 Duff Ave\, Ames\, IA\, 50010\, United States
END:VEVENT
BEGIN:VEVENT
DTSTART;VALUE=DATE:20230929
DTEND;VALUE=DATE:20231001
DTSTAMP:20260423T105815
CREATED:20230802T011343Z
LAST-MODIFIED:20230802T011343Z
UID:5667-1695945600-1696118399@thearcstory.org
SUMMARY:Fall Classic
DESCRIPTION:We will be in Des Moines both days for the SOIA Fall Classic! Please be watching your email for details and schedules!
URL:https://thearcstory.org/event/fall-classic/
LOCATION:IA
END:VEVENT
END:VCALENDAR