BEGIN:VCALENDAR
VERSION:2.0
PRODID:-//Arc of Story County - ECPv6.15.20//NONSGML v1.0//EN
CALSCALE:GREGORIAN
METHOD:PUBLISH
X-WR-CALNAME:Arc of Story County
X-ORIGINAL-URL:https://thearcstory.org
X-WR-CALDESC:Events for Arc of Story County
REFRESH-INTERVAL;VALUE=DURATION:PT1H
X-Robots-Tag:noindex
X-PUBLISHED-TTL:PT1H
BEGIN:VTIMEZONE
TZID:UTC
BEGIN:STANDARD
TZOFFSETFROM:+0000
TZOFFSETTO:+0000
TZNAME:UTC
DTSTART:20220101T000000
END:STANDARD
END:VTIMEZONE
BEGIN:VEVENT
DTSTART;TZID=UTC:20230703T180000
DTEND;TZID=UTC:20230703T193000
DTSTAMP:20260423T143959
CREATED:20230703T203156Z
LAST-MODIFIED:20230703T203156Z
UID:5612-1688407200-1688412600@thearcstory.org
SUMMARY:Optional Softball Practice
DESCRIPTION:Tonight’s softball practice will be optional\, due to the Holiday Weekend! Coach Steve and Cindy will be there for anyone who still wants to come! Everyone have fun and be safe!
URL:https://thearcstory.org/event/optional-softball-practice/
LOCATION:North River Valley Park\, 725 E 13th St\, Ames\, IA\, 50010\, United States
END:VEVENT
BEGIN:VEVENT
DTSTART;TZID=UTC:20230705T170000
DTEND;TZID=UTC:20230705T180000
DTSTAMP:20260423T143959
CREATED:20230530T185834Z
LAST-MODIFIED:20230530T185834Z
UID:5588-1688576400-1688580000@thearcstory.org
SUMMARY:Reiman Gardens Walk
DESCRIPTION:Join us at Reiman Gardens to walk through the outdoor areas! Be sure to wear your walking shoes and wear some sunscreen or a hat in case it is sunny!
URL:https://thearcstory.org/event/reiman-gardens-walk/
LOCATION:Reiman Gardens\, 1407 University Blvd\, Ames\, IA\, 50011\, United States
END:VEVENT
BEGIN:VEVENT
DTSTART;TZID=UTC:20230710T180000
DTEND;TZID=UTC:20230710T193000
DTSTAMP:20260423T143959
CREATED:20230703T203411Z
LAST-MODIFIED:20230703T203411Z
UID:5614-1689012000-1689017400@thearcstory.org
SUMMARY:Softball Practice
DESCRIPTION:Join us on Fields 1 and 2 for softball practices. We are preparing for Districts on July 15th\, and State on August 5th! Plan to bring lots of water and appropriate attire for the warm weather!
URL:https://thearcstory.org/event/softball-practice-28/
LOCATION:North River Valley Park\, 725 E 13th St\, Ames\, IA\, 50010\, United States
END:VEVENT
BEGIN:VEVENT
DTSTART;TZID=UTC:20230713T180000
DTEND;TZID=UTC:20230713T193000
DTSTAMP:20260423T143959
CREATED:20230703T203758Z
LAST-MODIFIED:20230703T203758Z
UID:5622-1689271200-1689276600@thearcstory.org
SUMMARY:Softball Practice
DESCRIPTION:Join us on Fields 1 and 2 for softball practices. We are preparing for Districts on July 15th\, and State on August 5th! Plan to bring lots of water and appropriate attire for the warm weather!
URL:https://thearcstory.org/event/softball-practice-32/
LOCATION:North River Valley Park\, 725 E 13th St\, Ames\, IA\, 50010\, United States
END:VEVENT
BEGIN:VEVENT
DTSTART;VALUE=DATE:20230715
DTEND;VALUE=DATE:20230716
DTSTAMP:20260423T143959
CREATED:20230530T182907Z
LAST-MODIFIED:20230530T182907Z
UID:5560-1689379200-1689465599@thearcstory.org
SUMMARY:Softball District Tournament
DESCRIPTION:We will have our District tournament on July 15th at a new location: George Davis Softball Complex.
URL:https://thearcstory.org/event/softball-district-tournament-2/
LOCATION:George Davis Softball Complex\, 4980 NE 46th St\, Des Moines\, IA\, 50317\, United States
END:VEVENT
BEGIN:VEVENT
DTSTART;TZID=UTC:20230717T180000
DTEND;TZID=UTC:20230717T193000
DTSTAMP:20260423T143959
CREATED:20230703T203449Z
LAST-MODIFIED:20230703T203449Z
UID:5616-1689616800-1689622200@thearcstory.org
SUMMARY:Softball Practice
DESCRIPTION:Join us on Fields 1 and 2 for softball practices. We are preparing for State on August 5th! Plan to bring lots of water and appropriate attire for the warm weather!
URL:https://thearcstory.org/event/softball-practice-29/
LOCATION:North River Valley Park\, 725 E 13th St\, Ames\, IA\, 50010\, United States
END:VEVENT
BEGIN:VEVENT
DTSTART;TZID=UTC:20230718T163000
DTEND;TZID=UTC:20230718T173000
DTSTAMP:20260423T143959
CREATED:20230530T183534Z
LAST-MODIFIED:20230530T183534Z
UID:5570-1689697800-1689701400@thearcstory.org
SUMMARY:SCC Scavenger Hunt
DESCRIPTION:Story County Conservation will be helping us put on a Scavenger Hunt! We will be sending out more details via email!
URL:https://thearcstory.org/event/scc-scavenger-hunt/
LOCATION:Hickory Grove Park\, 67464 250th St\, Colo\, IA\, 50056\, United States
END:VEVENT
BEGIN:VEVENT
DTSTART;TZID=UTC:20230720T180000
DTEND;TZID=UTC:20230720T193000
DTSTAMP:20260423T143959
CREATED:20230703T203839Z
LAST-MODIFIED:20230703T203839Z
UID:5624-1689876000-1689881400@thearcstory.org
SUMMARY:Softball Practice
DESCRIPTION:Join us on Fields 1 and 2 for softball practices. We are preparing for State on August 5th! Plan to bring lots of water and appropriate attire for the warm weather!
URL:https://thearcstory.org/event/softball-practice-33/
LOCATION:North River Valley Park\, 725 E 13th St\, Ames\, IA\, 50010\, United States
END:VEVENT
BEGIN:VEVENT
DTSTART;TZID=UTC:20230724T180000
DTEND;TZID=UTC:20230724T193000
DTSTAMP:20260423T143959
CREATED:20230703T203530Z
LAST-MODIFIED:20230703T203530Z
UID:5618-1690221600-1690227000@thearcstory.org
SUMMARY:Softball Practice
DESCRIPTION:Join us on Fields 1 and 2 for softball practices. We are preparing for State on August 5th! Plan to bring lots of water and appropriate attire for the warm weather!
URL:https://thearcstory.org/event/softball-practice-30/
LOCATION:North River Valley Park\, 725 E 13th St\, Ames\, IA\, 50010\, United States
END:VEVENT
BEGIN:VEVENT
DTSTART;TZID=UTC:20230725T180000
DTEND;TZID=UTC:20230725T190000
DTSTAMP:20260423T143959
CREATED:20230530T192144Z
LAST-MODIFIED:20230530T192144Z
UID:5591-1690308000-1690311600@thearcstory.org
SUMMARY:Kickball Night
DESCRIPTION:Join us for a night of kickball! We will choose teams when everyone arrives. Wear good shoes and bring water!
URL:https://thearcstory.org/event/kickball-night-2/
LOCATION:Inis Grove Park\, 2500 Duff Ave\, Ames\, IA\, 50010\, United States
END:VEVENT
BEGIN:VEVENT
DTSTART;TZID=UTC:20230727T180000
DTEND;TZID=UTC:20230727T193000
DTSTAMP:20260423T143959
CREATED:20230703T203914Z
LAST-MODIFIED:20230703T203914Z
UID:5626-1690480800-1690486200@thearcstory.org
SUMMARY:Softball Practice
DESCRIPTION:Join us on Fields 1 and 2 for softball practices. We are preparing for State on August 5th! Plan to bring lots of water and appropriate attire for the warm weather!
URL:https://thearcstory.org/event/softball-practice-34/
LOCATION:IA
END:VEVENT
BEGIN:VEVENT
DTSTART;TZID=UTC:20230731T180000
DTEND;TZID=UTC:20230731T193000
DTSTAMP:20260423T143959
CREATED:20230703T203605Z
LAST-MODIFIED:20230703T203605Z
UID:5620-1690826400-1690831800@thearcstory.org
SUMMARY:Softball Practice
DESCRIPTION:Join us on Fields 1 and 2 for softball practices. We are preparing for State on August 5th! Plan to bring lots of water and appropriate attire for the warm weather!
URL:https://thearcstory.org/event/softball-practice-31/
LOCATION:North River Valley Park\, 725 E 13th St\, Ames\, IA\, 50010\, United States
END:VEVENT
END:VCALENDAR