BEGIN:VCALENDAR
VERSION:2.0
PRODID:-//Arc of Story County - ECPv6.15.20//NONSGML v1.0//EN
CALSCALE:GREGORIAN
METHOD:PUBLISH
X-WR-CALNAME:Arc of Story County
X-ORIGINAL-URL:https://thearcstory.org
X-WR-CALDESC:Events for Arc of Story County
REFRESH-INTERVAL;VALUE=DURATION:PT1H
X-Robots-Tag:noindex
X-PUBLISHED-TTL:PT1H
BEGIN:VTIMEZONE
TZID:UTC
BEGIN:STANDARD
TZOFFSETFROM:+0000
TZOFFSETTO:+0000
TZNAME:UTC
DTSTART:20220101T000000
END:STANDARD
END:VTIMEZONE
BEGIN:VEVENT
DTSTART;TZID=UTC:20230403T173000
DTEND;TZID=UTC:20230403T183000
DTSTAMP:20260425T010356
CREATED:20230401T234915Z
LAST-MODIFIED:20230401T234915Z
UID:5455-1680543000-1680546600@thearcstory.org
SUMMARY:Track Practice
DESCRIPTION:We have time trials turned in for Districts\, so let’s keep practicing! We practice at the ISU outdoor track.
URL:https://thearcstory.org/event/track-practice-4/
END:VEVENT
BEGIN:VEVENT
DTSTART;TZID=UTC:20230403T143000
DTEND;TZID=UTC:20230403T170000
DTSTAMP:20260425T010356
CREATED:20230401T233930Z
LAST-MODIFIED:20230401T233930Z
UID:5449-1680532200-1680541200@thearcstory.org
SUMMARY:Bowling
DESCRIPTION:Join us for fun with friends and $2 a game bowling!
URL:https://thearcstory.org/event/bowling-44/
LOCATION:Perfect Games\, 1320 Dickinson Ave\, Ames\, IA\, 50014\, United States
END:VEVENT
BEGIN:VEVENT
DTSTART;TZID=UTC:20230328T183000
DTEND;TZID=UTC:20230328T193000
DTSTAMP:20260425T010356
CREATED:20230301T174128Z
LAST-MODIFIED:20230301T174128Z
UID:5435-1680028200-1680031800@thearcstory.org
SUMMARY:Swimming
DESCRIPTION:Join us for swimming practices!
URL:https://thearcstory.org/event/swimming-3/
LOCATION:Ames High Pool
END:VEVENT
BEGIN:VEVENT
DTSTART;TZID=UTC:20230327T173000
DTEND;TZID=UTC:20230327T183000
DTSTAMP:20260425T010356
CREATED:20230301T174617Z
LAST-MODIFIED:20230301T174617Z
UID:5439-1679938200-1679941800@thearcstory.org
SUMMARY:Track Practice
DESCRIPTION:Please join us at our second track practice if you are interested in competing! We will need to get “preliminary” scores and times in for our first tournament in April! We hold practices at the ISU outdoor track\, East of the towers residence halls.
URL:https://thearcstory.org/event/track-practice-3/
END:VEVENT
BEGIN:VEVENT
DTSTART;TZID=UTC:20230327T143000
DTEND;TZID=UTC:20230327T170000
DTSTAMP:20260425T010356
CREATED:20230301T170038Z
LAST-MODIFIED:20230301T170038Z
UID:5421-1679927400-1679936400@thearcstory.org
SUMMARY:Bowling
DESCRIPTION:Join us for $2 games of bowling at Perfect Games!
URL:https://thearcstory.org/event/bowling-43/
LOCATION:Perfect Games\, 1320 Dickinson Ave\, Ames\, IA\, 50014\, United States
END:VEVENT
BEGIN:VEVENT
DTSTART;TZID=UTC:20230321T183000
DTEND;TZID=UTC:20230321T193000
DTSTAMP:20260425T010356
CREATED:20230301T174013Z
LAST-MODIFIED:20230301T174013Z
UID:5433-1679423400-1679427000@thearcstory.org
SUMMARY:Swimming
DESCRIPTION:Join us at the Ames High Pool for swimming practices!
URL:https://thearcstory.org/event/swimming-2/
LOCATION:Ames High Pool
END:VEVENT
BEGIN:VEVENT
DTSTART;TZID=UTC:20230320T173000
DTEND;TZID=UTC:20230320T183000
DTSTAMP:20260425T010356
CREATED:20230301T174506Z
LAST-MODIFIED:20230301T174506Z
UID:5437-1679333400-1679337000@thearcstory.org
SUMMARY:Track Begins
DESCRIPTION:Please join us at our first track practice if you are interested in competing! We will need to get “preliminary” scores and times in for our first tournament in April! We hold practices at the ISU outdoor track\, East of the towers residence halls.
URL:https://thearcstory.org/event/track-begins/
END:VEVENT
BEGIN:VEVENT
DTSTART;TZID=UTC:20230320T143000
DTEND;TZID=UTC:20230320T170000
DTSTAMP:20260425T010356
CREATED:20230301T165808Z
LAST-MODIFIED:20230301T165808Z
UID:5417-1679322600-1679331600@thearcstory.org
SUMMARY:Bowling
DESCRIPTION:Join us at Perfect Games for $2 games of bowling!
URL:https://thearcstory.org/event/bowling-42/
LOCATION:Perfect Games\, 1320 Dickinson Ave\, Ames\, IA\, 50014\, United States
END:VEVENT
BEGIN:VEVENT
DTSTART;VALUE=DATE:20230311
DTEND;VALUE=DATE:20230312
DTSTAMP:20260425T010356
CREATED:20230301T170736Z
LAST-MODIFIED:20230301T170736Z
UID:5427-1678492800-1678579199@thearcstory.org
SUMMARY:Winter Classic Tournament
DESCRIPTION:
URL:https://thearcstory.org/event/winter-classic-tournament/
END:VEVENT
BEGIN:VEVENT
DTSTART;TZID=UTC:20230310T170000
DTEND;TZID=UTC:20230310T220000
DTSTAMP:20260425T010356
CREATED:20230301T171043Z
LAST-MODIFIED:20230301T171043Z
UID:5429-1678467600-1678485600@thearcstory.org
SUMMARY:Winter Classic Tournament
DESCRIPTION:
URL:https://thearcstory.org/event/winter-classic-tournament-2/
END:VEVENT
BEGIN:VEVENT
DTSTART;TZID=UTC:20230309T173000
DTEND;TZID=UTC:20230309T183000
DTSTAMP:20260425T010356
CREATED:20230301T170438Z
LAST-MODIFIED:20230301T170438Z
UID:5423-1678383000-1678386600@thearcstory.org
SUMMARY:Estate Planning Event
DESCRIPTION:Here is a link to the flyer for more information! \nThursday\, March 9\, 2023\, 5:30 – 6:30 p.m.\nPresentation with Q&A at CityChurch of Ames-Des Moines\n2400 Oakwood Road\nAmes\, Iowa 50014 \nFor more information\,\ncontact us at thearcstory.org\nor call [515] 232-9330.
URL:https://thearcstory.org/event/estate-planning-event/
END:VEVENT
BEGIN:VEVENT
DTSTART;TZID=UTC:20230307T183000
DTEND;TZID=UTC:20230307T193000
DTSTAMP:20260425T010356
CREATED:20230301T173931Z
LAST-MODIFIED:20230301T173931Z
UID:5431-1678213800-1678217400@thearcstory.org
SUMMARY:Swimming Begins
DESCRIPTION:We will have one swim practice before Spring Break. If you are still in basketball\, please attend the last practice\, and you can attend the second swim practice!
URL:https://thearcstory.org/event/swimming-begins/
LOCATION:Ames High Pool
END:VEVENT
BEGIN:VEVENT
DTSTART;TZID=UTC:20230307T180000
DTEND;TZID=UTC:20230307T193000
DTSTAMP:20260425T010356
CREATED:20230301T170537Z
LAST-MODIFIED:20230301T170537Z
UID:5425-1678212000-1678217400@thearcstory.org
SUMMARY:Basketball Practice
DESCRIPTION:Join us for our last basketball practice before the Winter Classic Tournament in Iowa City!
URL:https://thearcstory.org/event/basketball-practice-15/
LOCATION:The Boys and Girls Club\, 210 S 5th St\, Ames\, Iowa\, 50014
END:VEVENT
BEGIN:VEVENT
DTSTART;TZID=UTC:20230306T143000
DTEND;TZID=UTC:20230306T170000
DTSTAMP:20260425T010356
CREATED:20170810T222246Z
LAST-MODIFIED:20230301T165932Z
UID:4535-1678113000-1678122000@thearcstory.org
SUMMARY:Bowling
DESCRIPTION:Bowling is held on Monday afternoons from 2:30-5pm at Perfect Games. Games are $2.
URL:https://thearcstory.org/event/bowling-2023-03-06/
LOCATION:Perfect Games\, 1320 Dickinson Ave\, Ames\, IA\, 50014\, United States
END:VEVENT
BEGIN:VEVENT
DTSTART;TZID=UTC:20230228T180000
DTEND;TZID=UTC:20230228T193000
DTSTAMP:20260425T010356
CREATED:20230128T182439Z
LAST-MODIFIED:20230128T182439Z
UID:5385-1677607200-1677612600@thearcstory.org
SUMMARY:Basketball
DESCRIPTION:
URL:https://thearcstory.org/event/basketball-20/
LOCATION:The Boys and Girls Club\, 210 S 5th St\, Ames\, Iowa\, 50014
END:VEVENT
BEGIN:VEVENT
DTSTART;TZID=UTC:20230227T180000
DTEND;TZID=UTC:20230227T190000
DTSTAMP:20260425T010356
CREATED:20230128T183335Z
LAST-MODIFIED:20230128T183335Z
UID:5397-1677520800-1677524400@thearcstory.org
SUMMARY:Dance
DESCRIPTION:
URL:https://thearcstory.org/event/dance-12/
END:VEVENT
BEGIN:VEVENT
DTSTART;TZID=UTC:20230227T140000
DTEND;TZID=UTC:20230227T170000
DTSTAMP:20260425T010356
CREATED:20170810T222246Z
LAST-MODIFIED:20170810T222246Z
UID:4524-1677506400-1677517200@thearcstory.org
SUMMARY:Bowling
DESCRIPTION:Bowling is held on Monday afternoons from 2-5pm at Perfect Games. Bowling has a regional and a state tournament. The regional tournament date is still pending but will be sometime in October. Currently\, the State office is looking to move it to Perfect Games this year! The State tournament will be on November 17th in Des Moines. If you are interested in participating in bowling\, please begin attending practices on Monday to tell Christina who you would like on your team\, if you are playing singles\, doubles\, or in a team\, and report your scores each week until registration. You may also email the Active Lifestyles email with your interest. You must have a Special Olympics Physical submitted to The Arc or State Office within the last three years to participate. \nBowling is also considered a leisure sport for socialization throughout the year. We host bowling every Monday outside of holidays and the month of July.
URL:https://thearcstory.org/event/bowling-2023-02-27/
LOCATION:Perfect Games\, 1320 Dickinson Ave\, Ames\, IA\, 50014\, United States
END:VEVENT
BEGIN:VEVENT
DTSTART;TZID=UTC:20230221T180000
DTEND;TZID=UTC:20230221T193000
DTSTAMP:20260425T010356
CREATED:20230128T182115Z
LAST-MODIFIED:20230128T182115Z
UID:5383-1677002400-1677007800@thearcstory.org
SUMMARY:Basketball
DESCRIPTION:
URL:https://thearcstory.org/event/basketball-19/
LOCATION:All Iowa Attack Gym\, 1005 Dickinson Ave\, Ames\, IA\, United States
END:VEVENT
BEGIN:VEVENT
DTSTART;TZID=UTC:20230220T180000
DTEND;TZID=UTC:20230220T190000
DTSTAMP:20260425T010356
CREATED:20230128T183251Z
LAST-MODIFIED:20230128T183251Z
UID:5395-1676916000-1676919600@thearcstory.org
SUMMARY:Dance
DESCRIPTION:
URL:https://thearcstory.org/event/dance-11/
END:VEVENT
BEGIN:VEVENT
DTSTART;TZID=UTC:20230220T140000
DTEND;TZID=UTC:20230220T170000
DTSTAMP:20260425T010356
CREATED:20170810T222246Z
LAST-MODIFIED:20170810T222246Z
UID:4521-1676901600-1676912400@thearcstory.org
SUMMARY:Bowling
DESCRIPTION:Bowling is held on Monday afternoons from 2-5pm at Perfect Games. Bowling has a regional and a state tournament. The regional tournament date is still pending but will be sometime in October. Currently\, the State office is looking to move it to Perfect Games this year! The State tournament will be on November 17th in Des Moines. If you are interested in participating in bowling\, please begin attending practices on Monday to tell Christina who you would like on your team\, if you are playing singles\, doubles\, or in a team\, and report your scores each week until registration. You may also email the Active Lifestyles email with your interest. You must have a Special Olympics Physical submitted to The Arc or State Office within the last three years to participate. \nBowling is also considered a leisure sport for socialization throughout the year. We host bowling every Monday outside of holidays and the month of July.
URL:https://thearcstory.org/event/bowling-2023-02-20/
LOCATION:Perfect Games\, 1320 Dickinson Ave\, Ames\, IA\, 50014\, United States
END:VEVENT
BEGIN:VEVENT
DTSTART;TZID=UTC:20230214T180000
DTEND;TZID=UTC:20230214T193000
DTSTAMP:20260425T010356
CREATED:20230128T182048Z
LAST-MODIFIED:20230128T182048Z
UID:5381-1676397600-1676403000@thearcstory.org
SUMMARY:Basketball
DESCRIPTION:
URL:https://thearcstory.org/event/basketball-18/
LOCATION:All Iowa Attack Gym\, 1005 Dickinson Ave\, Ames\, IA\, United States
END:VEVENT
BEGIN:VEVENT
DTSTART;TZID=UTC:20230213T180000
DTEND;TZID=UTC:20230213T203000
DTSTAMP:20260425T010356
CREATED:20230128T183632Z
LAST-MODIFIED:20230128T183632Z
UID:5400-1676311200-1676320200@thearcstory.org
SUMMARY:Women's ISU Basketball Game
DESCRIPTION:Join us for a ISU women’s basketball game! An email with details and ticket links will be sent out!
URL:https://thearcstory.org/event/womens-isu-basketball-game/
LOCATION:Hilton Coliseum\, 1705 Center Dr\, Ames\, IA\, 50011\, United States
END:VEVENT
BEGIN:VEVENT
DTSTART;TZID=UTC:20230209T180000
DTEND;TZID=UTC:20230209T200000
DTSTAMP:20260425T010356
CREATED:20221222T192515Z
LAST-MODIFIED:20221222T192515Z
UID:5367-1675965600-1675972800@thearcstory.org
SUMMARY:Valentine's Day Dance
DESCRIPTION:Come join us for a fun night of dancing with your friends! Pop and cookies will be provided!
URL:https://thearcstory.org/event/valentines-day-dance-2/
LOCATION:Moose Lodge\, 644 W 190th St\, Ames\, IA\, 50010\, United States
END:VEVENT
BEGIN:VEVENT
DTSTART;TZID=UTC:20230207T180000
DTEND;TZID=UTC:20230207T193000
DTSTAMP:20260425T010356
CREATED:20230128T181942Z
LAST-MODIFIED:20230128T181942Z
UID:5379-1675792800-1675798200@thearcstory.org
SUMMARY:Basketball
DESCRIPTION:
URL:https://thearcstory.org/event/basketball-17/
LOCATION:All Iowa Attack Gym\, 1005 Dickinson Ave\, Ames\, IA\, United States
END:VEVENT
BEGIN:VEVENT
DTSTART;TZID=UTC:20230206T180000
DTEND;TZID=UTC:20230206T190000
DTSTAMP:20260425T010356
CREATED:20230128T182908Z
LAST-MODIFIED:20230128T182908Z
UID:5389-1675706400-1675710000@thearcstory.org
SUMMARY:Dance
DESCRIPTION:
URL:https://thearcstory.org/event/dance-9/
END:VEVENT
BEGIN:VEVENT
DTSTART;TZID=UTC:20230206T140000
DTEND;TZID=UTC:20230206T170000
DTSTAMP:20260425T010356
CREATED:20170810T222246Z
LAST-MODIFIED:20170810T222246Z
UID:4416-1675692000-1675702800@thearcstory.org
SUMMARY:Bowling
DESCRIPTION:Bowling is held on Monday afternoons from 2-5pm at Perfect Games. Bowling has a regional and a state tournament. The regional tournament date is still pending but will be sometime in October. Currently\, the State office is looking to move it to Perfect Games this year! The State tournament will be on November 17th in Des Moines. If you are interested in participating in bowling\, please begin attending practices on Monday to tell Christina who you would like on your team\, if you are playing singles\, doubles\, or in a team\, and report your scores each week until registration. You may also email the Active Lifestyles email with your interest. You must have a Special Olympics Physical submitted to The Arc or State Office within the last three years to participate. \nBowling is also considered a leisure sport for socialization throughout the year. We host bowling every Monday outside of holidays and the month of July.
URL:https://thearcstory.org/event/bowling-2023-02-06/
LOCATION:Perfect Games\, 1320 Dickinson Ave\, Ames\, IA\, 50014\, United States
END:VEVENT
BEGIN:VEVENT
DTSTART;VALUE=DATE:20230204
DTEND;VALUE=DATE:20230205
DTSTAMP:20260425T010356
CREATED:20230128T181617Z
LAST-MODIFIED:20230128T181617Z
UID:5377-1675468800-1675555199@thearcstory.org
SUMMARY:District Teams Basketball Tournament
DESCRIPTION:We are so excited to be in a new location and get back to tournament play! Everyone will move on to State\, but let’s still go have fun and do our best!
URL:https://thearcstory.org/event/district-teams-basketball-tournament/
END:VEVENT
BEGIN:VEVENT
DTSTART;TZID=UTC:20230131T180000
DTEND;TZID=UTC:20230131T193000
DTSTAMP:20260425T010356
CREATED:20221222T191047Z
LAST-MODIFIED:20221222T191047Z
UID:5355-1675188000-1675193400@thearcstory.org
SUMMARY:Basketball
DESCRIPTION:Our first tournament is coming up in February\, so come continue working on your skills!
URL:https://thearcstory.org/event/basketball-16/
LOCATION:All Iowa Attack Gym\, 1005 Dickinson Ave\, Ames\, IA\, United States
END:VEVENT
BEGIN:VEVENT
DTSTART;TZID=UTC:20230130T180000
DTEND;TZID=UTC:20230130T190000
DTSTAMP:20260425T010356
CREATED:20221222T190548Z
LAST-MODIFIED:20221222T190548Z
UID:5345-1675101600-1675105200@thearcstory.org
SUMMARY:Dance
DESCRIPTION:Come continue working on your moves\, and having fun with your friends!
URL:https://thearcstory.org/event/dance-8/
END:VEVENT
BEGIN:VEVENT
DTSTART;TZID=UTC:20230130T143000
DTEND;TZID=UTC:20230130T170000
DTSTAMP:20260425T010356
CREATED:20221222T191418Z
LAST-MODIFIED:20221222T191418Z
UID:5365-1675089000-1675098000@thearcstory.org
SUMMARY:Bowling
DESCRIPTION:Join us for $2 games of bowling every Monday anytime between 2:30 and 5:00.
URL:https://thearcstory.org/event/bowling-41/
LOCATION:Perfect Games\, 1320 Dickinson Ave\, Ames\, IA\, 50014\, United States
END:VEVENT
END:VCALENDAR