BEGIN:VCALENDAR
VERSION:2.0
PRODID:-//Arc of Story County - ECPv6.15.20//NONSGML v1.0//EN
CALSCALE:GREGORIAN
METHOD:PUBLISH
X-WR-CALNAME:Arc of Story County
X-ORIGINAL-URL:https://thearcstory.org
X-WR-CALDESC:Events for Arc of Story County
REFRESH-INTERVAL;VALUE=DURATION:PT1H
X-Robots-Tag:noindex
X-PUBLISHED-TTL:PT1H
BEGIN:VTIMEZONE
TZID:UTC
BEGIN:STANDARD
TZOFFSETFROM:+0000
TZOFFSETTO:+0000
TZNAME:UTC
DTSTART:20220101T000000
END:STANDARD
END:VTIMEZONE
BEGIN:VEVENT
DTSTART;TZID=UTC:20230424T173000
DTEND;TZID=UTC:20230424T183000
DTSTAMP:20260424T212914
CREATED:20230402T004426Z
LAST-MODIFIED:20230402T004426Z
UID:5464-1682357400-1682361000@thearcstory.org
SUMMARY:Track Practice
DESCRIPTION:Let’s keep practicing for State in May! We practice at the ISU outdoor track.
URL:https://thearcstory.org/event/track-practice-6/
LOCATION:IA
END:VEVENT
BEGIN:VEVENT
DTSTART;TZID=UTC:20230424T143000
DTEND;TZID=UTC:20230424T170000
DTSTAMP:20260424T212914
CREATED:20230401T234105Z
LAST-MODIFIED:20230401T234105Z
UID:5453-1682346600-1682355600@thearcstory.org
SUMMARY:Bowling
DESCRIPTION:Join us for fun with friends and $2 a game bowling!
URL:https://thearcstory.org/event/bowling-46/
LOCATION:Perfect Games\, 1320 Dickinson Ave\, Ames\, IA\, 50014\, United States
END:VEVENT
BEGIN:VEVENT
DTSTART;TZID=UTC:20230422T100000
DTEND;TZID=UTC:20230422T130000
DTSTAMP:20260424T212914
CREATED:20230401T232915Z
LAST-MODIFIED:20230401T232915Z
UID:5447-1682157600-1682168400@thearcstory.org
SUMMARY:Annual Arc March!
DESCRIPTION:Join us at Inis Grove for the Arc March\, and look at our emails for more details\, flyers\, and links attached!
URL:https://thearcstory.org/event/annual-arc-march-2/
LOCATION:Inis Grove Park\, 2500 Duff Ave\, Ames\, IA\, 50010\, United States
END:VEVENT
BEGIN:VEVENT
DTSTART;VALUE=DATE:20230422
DTEND;VALUE=DATE:20230423
DTSTAMP:20260424T212914
CREATED:20230402T003240Z
LAST-MODIFIED:20230402T003240Z
UID:5461-1682121600-1682207999@thearcstory.org
SUMMARY:District Swim Competition
DESCRIPTION:
URL:https://thearcstory.org/event/district-swim-competition/
LOCATION:IA
END:VEVENT
BEGIN:VEVENT
DTSTART;TZID=UTC:20230420T180000
DTEND;TZID=UTC:20230420T184500
DTSTAMP:20260424T212914
CREATED:20230402T011456Z
LAST-MODIFIED:20230402T011456Z
UID:5491-1682013600-1682016300@thearcstory.org
SUMMARY:Cycling Practice
DESCRIPTION:Join us to practice your cycling skills for the upcoming State tournament!
URL:https://thearcstory.org/event/cycling-practice-7/
LOCATION:Inis Grove Park\, 2500 Duff Ave\, Ames\, IA\, 50010\, United States
END:VEVENT
BEGIN:VEVENT
DTSTART;TZID=UTC:20230420T163000
DTEND;TZID=UTC:20230420T173000
DTSTAMP:20260424T212914
CREATED:20230402T012133Z
LAST-MODIFIED:20230402T012133Z
UID:5501-1682008200-1682011800@thearcstory.org
SUMMARY:Soccer Practice
DESCRIPTION:Join us to practice our soccer playing skills before the State tournament coming up in May!
URL:https://thearcstory.org/event/soccer-practice-11/
LOCATION:Hunziker\, 800 Billy Sunday Rd\, Ames\, IA\, United States
END:VEVENT
BEGIN:VEVENT
DTSTART;TZID=UTC:20230419T180000
DTEND;TZID=UTC:20230419T184500
DTSTAMP:20260424T212914
CREATED:20230402T010939Z
LAST-MODIFIED:20230402T010939Z
UID:5483-1681927200-1681929900@thearcstory.org
SUMMARY:Bocce Practice
DESCRIPTION:Join us to practice our Bocce skills for the upcoming State tournament!
URL:https://thearcstory.org/event/bocce-practice-11/
LOCATION:Inis Grove Park\, 2500 Duff Ave\, Ames\, IA\, 50010\, United States
END:VEVENT
BEGIN:VEVENT
DTSTART;TZID=UTC:20230418T183000
DTEND;TZID=UTC:20230418T193000
DTSTAMP:20260424T212914
CREATED:20230402T010251Z
LAST-MODIFIED:20230402T010251Z
UID:5476-1681842600-1681846200@thearcstory.org
SUMMARY:Swimming Practice
DESCRIPTION:We practice at the Ames High School Pool on Tuesday nights from 6:30pm-7:30pm. We are preparing for our tournaments and getting registrations in!
URL:https://thearcstory.org/event/swimming-practice-5/
LOCATION:Ames High Pool
END:VEVENT
BEGIN:VEVENT
DTSTART;TZID=UTC:20230417T173000
DTEND;TZID=UTC:20230417T183000
DTSTAMP:20260424T212914
CREATED:20230401T235236Z
LAST-MODIFIED:20230402T004505Z
UID:5457-1681752600-1681756200@thearcstory.org
SUMMARY:Track Practice
DESCRIPTION:We have time trials turned in for Districts\, so let’s keep practicing! We practice at the ISU outdoor track.
URL:https://thearcstory.org/event/track-practice-5/
LOCATION:IA
END:VEVENT
BEGIN:VEVENT
DTSTART;TZID=UTC:20230417T143000
DTEND;TZID=UTC:20230417T170000
DTSTAMP:20260424T212914
CREATED:20230401T234008Z
LAST-MODIFIED:20230401T234026Z
UID:5451-1681741800-1681750800@thearcstory.org
SUMMARY:Bowling
DESCRIPTION:Join us for fun with friends and $2 a game bowling!
URL:https://thearcstory.org/event/bowling-45/
LOCATION:Perfect Games\, 1320 Dickinson Ave\, Ames\, IA\, 50014\, United States
END:VEVENT
BEGIN:VEVENT
DTSTART;VALUE=DATE:20230415
DTEND;VALUE=DATE:20230416
DTSTAMP:20260424T212914
CREATED:20230402T003101Z
LAST-MODIFIED:20230402T003123Z
UID:5459-1681516800-1681603199@thearcstory.org
SUMMARY:District Track Competition
DESCRIPTION:
URL:https://thearcstory.org/event/district-track-competition/
LOCATION:IA
END:VEVENT
BEGIN:VEVENT
DTSTART;TZID=UTC:20230413T180000
DTEND;TZID=UTC:20230413T184500
DTSTAMP:20260424T212914
CREATED:20230402T011414Z
LAST-MODIFIED:20230402T011414Z
UID:5489-1681408800-1681411500@thearcstory.org
SUMMARY:Cycling Practice
DESCRIPTION:Join us to practice your cycling skills for the upcoming State tournament!
URL:https://thearcstory.org/event/cycling-practice-6/
LOCATION:Inis Grove Park\, 2500 Duff Ave\, Ames\, IA\, 50010\, United States
END:VEVENT
BEGIN:VEVENT
DTSTART;TZID=UTC:20230413T163000
DTEND;TZID=UTC:20230413T173000
DTSTAMP:20260424T212914
CREATED:20230402T012105Z
LAST-MODIFIED:20230402T012105Z
UID:5499-1681403400-1681407000@thearcstory.org
SUMMARY:Soccer Practice
DESCRIPTION:Join us to practice our soccer playing skills before the State tournament coming up in May!
URL:https://thearcstory.org/event/soccer-practice-10/
LOCATION:Hunziker\, 800 Billy Sunday Rd\, Ames\, IA\, United States
END:VEVENT
BEGIN:VEVENT
DTSTART;TZID=UTC:20230412T180000
DTEND;TZID=UTC:20230412T184500
DTSTAMP:20260424T212914
CREATED:20230402T010533Z
LAST-MODIFIED:20230402T010533Z
UID:5480-1681322400-1681325100@thearcstory.org
SUMMARY:Bocce Practice
DESCRIPTION:Join us to practice our Bocce skills for the upcoming State tournament!
URL:https://thearcstory.org/event/bocce-practice-10/
LOCATION:Inis Grove Park\, 2500 Duff Ave\, Ames\, IA\, 50010\, United States
END:VEVENT
BEGIN:VEVENT
DTSTART;TZID=UTC:20230411T183000
DTEND;TZID=UTC:20230411T193000
DTSTAMP:20260424T212914
CREATED:20230402T005842Z
LAST-MODIFIED:20230402T005842Z
UID:5471-1681237800-1681241400@thearcstory.org
SUMMARY:Swimming Practice
DESCRIPTION:We practice at the Ames High School Pool on Tuesday nights from 6:30pm-7:30pm. We are preparing for our tournaments and getting registrations in!
URL:https://thearcstory.org/event/swimming-practice-3/
LOCATION:Ames High Pool
END:VEVENT
BEGIN:VEVENT
DTSTART;TZID=UTC:20230410T180000
DTEND;TZID=UTC:20230410T200000
DTSTAMP:20260424T212914
CREATED:20230402T004945Z
LAST-MODIFIED:20230402T004945Z
UID:5467-1681149600-1681156800@thearcstory.org
SUMMARY:ISU Bowling Event
DESCRIPTION:We are teaming up with SOIA and ISU athletics to put on a fun night for bowling and socializing with our Arc athletes! More details are in our weekly email!
URL:https://thearcstory.org/event/isu-bowling-event/
LOCATION:Perfect Games\, 1320 Dickinson Ave\, Ames\, IA\, 50014\, United States
END:VEVENT
BEGIN:VEVENT
DTSTART;TZID=UTC:20230406T180000
DTEND;TZID=UTC:20230406T184500
DTSTAMP:20260424T212914
CREATED:20230402T011240Z
LAST-MODIFIED:20230402T011240Z
UID:5487-1680804000-1680806700@thearcstory.org
SUMMARY:Cycling Practice
DESCRIPTION:Join us to practice your cycling skills for the upcoming State tournament!
URL:https://thearcstory.org/event/cycling-practice-5/
LOCATION:St. Cecilia Catholic School\, 2900 Hoover Ave\, Ames\, IA\, 50010\, United States
END:VEVENT
BEGIN:VEVENT
DTSTART;TZID=UTC:20230406T163000
DTEND;TZID=UTC:20230406T173000
DTSTAMP:20260424T212914
CREATED:20230402T011905Z
LAST-MODIFIED:20230402T011905Z
UID:5496-1680798600-1680802200@thearcstory.org
SUMMARY:Soccer Practice
DESCRIPTION:Join us to practice our soccer playing skills before the State tournament coming up in May!
URL:https://thearcstory.org/event/soccer-practice-9/
LOCATION:Hunziker\, 800 Billy Sunday Rd\, Ames\, IA\, United States
END:VEVENT
BEGIN:VEVENT
DTSTART;TZID=UTC:20230405T180000
DTEND;TZID=UTC:20230405T184500
DTSTAMP:20260424T212914
CREATED:20230402T010444Z
LAST-MODIFIED:20230402T010444Z
UID:5478-1680717600-1680720300@thearcstory.org
SUMMARY:Bocce Practice
DESCRIPTION:Join us to practice our Bocce skills for the upcoming State tournament!
URL:https://thearcstory.org/event/bocce-practice-9/
LOCATION:Inis Grove Park\, 2500 Duff Ave\, Ames\, IA\, 50010\, United States
END:VEVENT
BEGIN:VEVENT
DTSTART;TZID=UTC:20230404T183000
DTEND;TZID=UTC:20230404T193000
DTSTAMP:20260424T212914
CREATED:20230402T005757Z
LAST-MODIFIED:20230402T005757Z
UID:5469-1680633000-1680636600@thearcstory.org
SUMMARY:Swimming Practice
DESCRIPTION:We practice at the Ames High School Pool on Tuesday nights from 6:30pm-7:30pm. We are preparing for our tournaments and getting registrations in!
URL:https://thearcstory.org/event/swimming-practice-2/
LOCATION:Ames High Pool
END:VEVENT
BEGIN:VEVENT
DTSTART;TZID=UTC:20230403T173000
DTEND;TZID=UTC:20230403T183000
DTSTAMP:20260424T212914
CREATED:20230401T234915Z
LAST-MODIFIED:20230401T234915Z
UID:5455-1680543000-1680546600@thearcstory.org
SUMMARY:Track Practice
DESCRIPTION:We have time trials turned in for Districts\, so let’s keep practicing! We practice at the ISU outdoor track.
URL:https://thearcstory.org/event/track-practice-4/
LOCATION:IA
END:VEVENT
BEGIN:VEVENT
DTSTART;TZID=UTC:20230403T143000
DTEND;TZID=UTC:20230403T170000
DTSTAMP:20260424T212914
CREATED:20230401T233930Z
LAST-MODIFIED:20230401T233930Z
UID:5449-1680532200-1680541200@thearcstory.org
SUMMARY:Bowling
DESCRIPTION:Join us for fun with friends and $2 a game bowling!
URL:https://thearcstory.org/event/bowling-44/
LOCATION:Perfect Games\, 1320 Dickinson Ave\, Ames\, IA\, 50014\, United States
END:VEVENT
BEGIN:VEVENT
DTSTART;TZID=UTC:20230328T183000
DTEND;TZID=UTC:20230328T193000
DTSTAMP:20260424T212914
CREATED:20230301T174128Z
LAST-MODIFIED:20230301T174128Z
UID:5435-1680028200-1680031800@thearcstory.org
SUMMARY:Swimming
DESCRIPTION:Join us for swimming practices!
URL:https://thearcstory.org/event/swimming-3/
LOCATION:Ames High Pool
END:VEVENT
BEGIN:VEVENT
DTSTART;TZID=UTC:20230327T173000
DTEND;TZID=UTC:20230327T183000
DTSTAMP:20260424T212914
CREATED:20230301T174617Z
LAST-MODIFIED:20230301T174617Z
UID:5439-1679938200-1679941800@thearcstory.org
SUMMARY:Track Practice
DESCRIPTION:Please join us at our second track practice if you are interested in competing! We will need to get “preliminary” scores and times in for our first tournament in April! We hold practices at the ISU outdoor track\, East of the towers residence halls.
URL:https://thearcstory.org/event/track-practice-3/
LOCATION:IA
END:VEVENT
BEGIN:VEVENT
DTSTART;TZID=UTC:20230327T143000
DTEND;TZID=UTC:20230327T170000
DTSTAMP:20260424T212914
CREATED:20230301T170038Z
LAST-MODIFIED:20230301T170038Z
UID:5421-1679927400-1679936400@thearcstory.org
SUMMARY:Bowling
DESCRIPTION:Join us for $2 games of bowling at Perfect Games!
URL:https://thearcstory.org/event/bowling-43/
LOCATION:Perfect Games\, 1320 Dickinson Ave\, Ames\, IA\, 50014\, United States
END:VEVENT
BEGIN:VEVENT
DTSTART;TZID=UTC:20230321T183000
DTEND;TZID=UTC:20230321T193000
DTSTAMP:20260424T212914
CREATED:20230301T174013Z
LAST-MODIFIED:20230301T174013Z
UID:5433-1679423400-1679427000@thearcstory.org
SUMMARY:Swimming
DESCRIPTION:Join us at the Ames High Pool for swimming practices!
URL:https://thearcstory.org/event/swimming-2/
LOCATION:Ames High Pool
END:VEVENT
BEGIN:VEVENT
DTSTART;TZID=UTC:20230320T173000
DTEND;TZID=UTC:20230320T183000
DTSTAMP:20260424T212914
CREATED:20230301T174506Z
LAST-MODIFIED:20230301T174506Z
UID:5437-1679333400-1679337000@thearcstory.org
SUMMARY:Track Begins
DESCRIPTION:Please join us at our first track practice if you are interested in competing! We will need to get “preliminary” scores and times in for our first tournament in April! We hold practices at the ISU outdoor track\, East of the towers residence halls.
URL:https://thearcstory.org/event/track-begins/
LOCATION:IA
END:VEVENT
BEGIN:VEVENT
DTSTART;TZID=UTC:20230320T143000
DTEND;TZID=UTC:20230320T170000
DTSTAMP:20260424T212914
CREATED:20230301T165808Z
LAST-MODIFIED:20230301T165808Z
UID:5417-1679322600-1679331600@thearcstory.org
SUMMARY:Bowling
DESCRIPTION:Join us at Perfect Games for $2 games of bowling!
URL:https://thearcstory.org/event/bowling-42/
LOCATION:Perfect Games\, 1320 Dickinson Ave\, Ames\, IA\, 50014\, United States
END:VEVENT
BEGIN:VEVENT
DTSTART;VALUE=DATE:20230311
DTEND;VALUE=DATE:20230312
DTSTAMP:20260424T212914
CREATED:20230301T170736Z
LAST-MODIFIED:20230301T170736Z
UID:5427-1678492800-1678579199@thearcstory.org
SUMMARY:Winter Classic Tournament
DESCRIPTION:
URL:https://thearcstory.org/event/winter-classic-tournament/
LOCATION:IA
END:VEVENT
BEGIN:VEVENT
DTSTART;TZID=UTC:20230310T170000
DTEND;TZID=UTC:20230310T220000
DTSTAMP:20260424T212914
CREATED:20230301T171043Z
LAST-MODIFIED:20230301T171043Z
UID:5429-1678467600-1678485600@thearcstory.org
SUMMARY:Winter Classic Tournament
DESCRIPTION:
URL:https://thearcstory.org/event/winter-classic-tournament-2/
LOCATION:IA
END:VEVENT
END:VCALENDAR