BEGIN:VCALENDAR
VERSION:2.0
PRODID:-//Arc of Story County - ECPv6.15.20//NONSGML v1.0//EN
CALSCALE:GREGORIAN
METHOD:PUBLISH
X-WR-CALNAME:Arc of Story County
X-ORIGINAL-URL:https://thearcstory.org
X-WR-CALDESC:Events for Arc of Story County
REFRESH-INTERVAL;VALUE=DURATION:PT1H
X-Robots-Tag:noindex
X-PUBLISHED-TTL:PT1H
BEGIN:VTIMEZONE
TZID:UTC
BEGIN:STANDARD
TZOFFSETFROM:+0000
TZOFFSETTO:+0000
TZNAME:UTC
DTSTART:20220101T000000
END:STANDARD
END:VTIMEZONE
BEGIN:VEVENT
DTSTART;TZID=UTC:20230620T180000
DTEND;TZID=UTC:20230620T190000
DTSTAMP:20260421T104720
CREATED:20230530T185136Z
LAST-MODIFIED:20230530T185136Z
UID:5586-1687284000-1687287600@thearcstory.org
SUMMARY:Kickball Night
DESCRIPTION:Join us at Inis Grove Park for a night of kickball! We will make teams when we get there\, and play! Be sure to bring your water to stay hydrated!
URL:https://thearcstory.org/event/kickball-night/
LOCATION:Inis Grove Park\, 2500 Duff Ave\, Ames\, IA\, 50010\, United States
END:VEVENT
BEGIN:VEVENT
DTSTART;TZID=UTC:20230619T180000
DTEND;TZID=UTC:20230619T193000
DTSTAMP:20260421T104720
CREATED:20230530T183910Z
LAST-MODIFIED:20230530T184512Z
UID:5578-1687197600-1687203000@thearcstory.org
SUMMARY:Softball Practice
DESCRIPTION:We will have practice on fields 1 and 2 on Mondays\, and 3 on Thursday\, until the beginning of July\, and we will get fields 1 and 2 for both nights.
URL:https://thearcstory.org/event/softball-practice-24/
LOCATION:North River Valley Park\, 725 E 13th St\, Ames\, IA\, 50010\, United States
END:VEVENT
BEGIN:VEVENT
DTSTART;TZID=UTC:20230615T180000
DTEND;TZID=UTC:20230615T193000
DTSTAMP:20260421T104720
CREATED:20230530T183834Z
LAST-MODIFIED:20230530T183834Z
UID:5576-1686852000-1686857400@thearcstory.org
SUMMARY:Softball Practice
DESCRIPTION:We will have practice on fields 1 and 2 on Mondays\, and 3 on Thursday\, until the beginning of July\, and we will get fields 1 and 2 for both nights.
URL:https://thearcstory.org/event/softball-practice-23/
LOCATION:North River Valley Park\, 725 E 13th St\, Ames\, IA\, 50010\, United States
END:VEVENT
BEGIN:VEVENT
DTSTART;TZID=UTC:20230612T180000
DTEND;TZID=UTC:20230612T193000
DTSTAMP:20260421T104720
CREATED:20230530T183726Z
LAST-MODIFIED:20230530T184427Z
UID:5574-1686592800-1686598200@thearcstory.org
SUMMARY:Softball Practice
DESCRIPTION:We will have practice on fields 1 and 2 on Mondays\, and 3 on Thursday\, until the beginning of July\, and we will get fields 1 and 2 for both nights.
URL:https://thearcstory.org/event/softball-practice-22/
LOCATION:North River Valley Park\, 725 E 13th St\, Ames\, IA\, 50010\, United States
END:VEVENT
BEGIN:VEVENT
DTSTART;TZID=UTC:20230608T180000
DTEND;TZID=UTC:20230608T193000
DTSTAMP:20260421T104720
CREATED:20230530T183304Z
LAST-MODIFIED:20230530T183304Z
UID:5568-1686247200-1686252600@thearcstory.org
SUMMARY:Softball Practice
DESCRIPTION:We will have practice on fields 1 and 2 on Mondays\, and 3 on Thursday\, until the beginning of July\, and we will get fields 1 and 2 for both nights.
URL:https://thearcstory.org/event/softball-practice-21/
LOCATION:North River Valley Park\, 725 E 13th St\, Ames\, IA\, 50010\, United States
END:VEVENT
BEGIN:VEVENT
DTSTART;TZID=UTC:20230605T180000
DTEND;TZID=UTC:20230605T193000
DTSTAMP:20260421T104720
CREATED:20230530T183222Z
LAST-MODIFIED:20230530T183222Z
UID:5565-1685988000-1685993400@thearcstory.org
SUMMARY:First Softball Practice
DESCRIPTION:We will have practice on fields 1 and 2 on Mondays\, and 3 on Thursday\, until the beginning of July\, and we will get fields 1 and 2 for both nights.
URL:https://thearcstory.org/event/first-softball-practice/
LOCATION:North River Valley Park\, 725 E 13th St\, Ames\, IA\, 50010\, United States
END:VEVENT
BEGIN:VEVENT
DTSTART;VALUE=DATE:20230525
DTEND;VALUE=DATE:20230528
DTSTAMP:20260421T104720
CREATED:20230402T012306Z
LAST-MODIFIED:20230501T200546Z
UID:5505-1684972800-1685231999@thearcstory.org
SUMMARY:State Competition
DESCRIPTION:Check your email for more information! We are sending information out as we get it!
URL:https://thearcstory.org/event/state-competition/
LOCATION:Iowa State University
END:VEVENT
BEGIN:VEVENT
DTSTART;TZID=UTC:20230524T180000
DTEND;TZID=UTC:20230524T184500
DTSTAMP:20260421T104720
CREATED:20230501T202304Z
LAST-MODIFIED:20230501T202304Z
UID:5533-1684951200-1684953900@thearcstory.org
SUMMARY:Bocce
DESCRIPTION:Join us in the grassy area of Inis Grove Park to keep practicing for State!
URL:https://thearcstory.org/event/bocce-3/
LOCATION:Inis Grove Park\, 2500 Duff Ave\, Ames\, IA\, 50010\, United States
END:VEVENT
BEGIN:VEVENT
DTSTART;TZID=UTC:20230523T183000
DTEND;TZID=UTC:20230523T193000
DTSTAMP:20260421T104720
CREATED:20230501T203104Z
LAST-MODIFIED:20230501T203104Z
UID:5549-1684866600-1684870200@thearcstory.org
SUMMARY:Swimming
DESCRIPTION:Join us for our last few practices before State!
URL:https://thearcstory.org/event/swimming-7/
LOCATION:Ames High Pool
END:VEVENT
BEGIN:VEVENT
DTSTART;TZID=UTC:20230522T173000
DTEND;TZID=UTC:20230522T183000
DTSTAMP:20260421T104720
CREATED:20230501T201938Z
LAST-MODIFIED:20230501T201938Z
UID:5527-1684776600-1684780200@thearcstory.org
SUMMARY:Track & Field
DESCRIPTION:Join us at the ISU outdoor track to keep practicing for State coming up this weekend!
URL:https://thearcstory.org/event/track-field-4/
LOCATION:IA
END:VEVENT
BEGIN:VEVENT
DTSTART;TZID=UTC:20230522T143000
DTEND;TZID=UTC:20230522T170000
DTSTAMP:20260421T104720
CREATED:20230501T200910Z
LAST-MODIFIED:20230501T200910Z
UID:5517-1684765800-1684774800@thearcstory.org
SUMMARY:Bowling
DESCRIPTION:Join us for bowling at Perfect Games for $2 games.
URL:https://thearcstory.org/event/bowling-50/
LOCATION:Perfect Games\, 1320 Dickinson Ave\, Ames\, IA\, 50014\, United States
END:VEVENT
BEGIN:VEVENT
DTSTART;TZID=UTC:20230518T180000
DTEND;TZID=UTC:20230518T184500
DTSTAMP:20260421T104720
CREATED:20230509T210800Z
LAST-MODIFIED:20230509T210800Z
UID:5554-1684432800-1684435500@thearcstory.org
SUMMARY:Cycling
DESCRIPTION:Join us to practice a couple more times before State!
URL:https://thearcstory.org/event/cycling-5/
LOCATION:St. Cecilia Catholic School\, 2900 Hoover Ave\, Ames\, IA\, 50010\, United States
END:VEVENT
BEGIN:VEVENT
DTSTART;TZID=UTC:20230518T163000
DTEND;TZID=UTC:20230518T173000
DTSTAMP:20260421T104720
CREATED:20230501T202648Z
LAST-MODIFIED:20230501T202648Z
UID:5541-1684427400-1684431000@thearcstory.org
SUMMARY:Soccer
DESCRIPTION:Join us for our last couple practices before State!
URL:https://thearcstory.org/event/soccer-4/
LOCATION:Hunziker\, 800 Billy Sunday Rd\, Ames\, IA\, United States
END:VEVENT
BEGIN:VEVENT
DTSTART;TZID=UTC:20230517T180000
DTEND;TZID=UTC:20230517T184500
DTSTAMP:20260421T104720
CREATED:20230501T202355Z
LAST-MODIFIED:20230501T202355Z
UID:5535-1684346400-1684349100@thearcstory.org
SUMMARY:Bocce
DESCRIPTION:Join us in the grassy area of Inis Grove Park to keep practicing for State!
URL:https://thearcstory.org/event/bocce-4/
LOCATION:Inis Grove Park\, 2500 Duff Ave\, Ames\, IA\, 50010\, United States
END:VEVENT
BEGIN:VEVENT
DTSTART;TZID=UTC:20230516T183000
DTEND;TZID=UTC:20230516T193000
DTSTAMP:20260421T104720
CREATED:20230501T203033Z
LAST-MODIFIED:20230501T203033Z
UID:5547-1684261800-1684265400@thearcstory.org
SUMMARY:Swimming
DESCRIPTION:Join us for our last few practices before State!
URL:https://thearcstory.org/event/swimming-6/
LOCATION:Ames High Pool
END:VEVENT
BEGIN:VEVENT
DTSTART;TZID=UTC:20230515T173000
DTEND;TZID=UTC:20230515T183000
DTSTAMP:20260421T104720
CREATED:20230501T201912Z
LAST-MODIFIED:20230501T201912Z
UID:5525-1684171800-1684175400@thearcstory.org
SUMMARY:Track & Field
DESCRIPTION:Join us at the ISU outdoor track to keep practicing for State coming up this month!
URL:https://thearcstory.org/event/track-field-3/
LOCATION:IA
END:VEVENT
BEGIN:VEVENT
DTSTART;TZID=UTC:20230515T143000
DTEND;TZID=UTC:20230515T170000
DTSTAMP:20260421T104720
CREATED:20230501T200828Z
LAST-MODIFIED:20230501T200828Z
UID:5515-1684161000-1684170000@thearcstory.org
SUMMARY:Bowling
DESCRIPTION:Join us for bowling at Perfect Games for $2 games.
URL:https://thearcstory.org/event/bowling-49/
LOCATION:Perfect Games\, 1320 Dickinson Ave\, Ames\, IA\, 50014\, United States
END:VEVENT
BEGIN:VEVENT
DTSTART;TZID=UTC:20230511T180000
DTEND;TZID=UTC:20230511T184500
DTSTAMP:20260421T104720
CREATED:20230509T210722Z
LAST-MODIFIED:20230509T210722Z
UID:5552-1683828000-1683830700@thearcstory.org
SUMMARY:Cycling
DESCRIPTION:Join us to practice a couple more times before State!
URL:https://thearcstory.org/event/cycling-4/
LOCATION:St. Cecilia Catholic School\, 2900 Hoover Ave\, Ames\, IA\, 50010\, United States
END:VEVENT
BEGIN:VEVENT
DTSTART;TZID=UTC:20230511T163000
DTEND;TZID=UTC:20230511T173000
DTSTAMP:20260421T104720
CREATED:20230501T202556Z
LAST-MODIFIED:20230501T202556Z
UID:5539-1683822600-1683826200@thearcstory.org
SUMMARY:Soccer
DESCRIPTION:Join us for our last couple practices before State!
URL:https://thearcstory.org/event/soccer-3/
LOCATION:Hunziker\, 800 Billy Sunday Rd\, Ames\, IA\, United States
END:VEVENT
BEGIN:VEVENT
DTSTART;TZID=UTC:20230510T180000
DTEND;TZID=UTC:20230510T184500
DTSTAMP:20260421T104720
CREATED:20230501T202219Z
LAST-MODIFIED:20230501T202219Z
UID:5531-1683741600-1683744300@thearcstory.org
SUMMARY:Bocce
DESCRIPTION:Join us in the grassy area of Inis Grove Park to keep practicing for State!
URL:https://thearcstory.org/event/bocce-2/
LOCATION:Inis Grove Park\, 2500 Duff Ave\, Ames\, IA\, 50010\, United States
END:VEVENT
BEGIN:VEVENT
DTSTART;TZID=UTC:20230509T183000
DTEND;TZID=UTC:20230509T193000
DTSTAMP:20260421T104720
CREATED:20230501T202932Z
LAST-MODIFIED:20230501T202932Z
UID:5545-1683657000-1683660600@thearcstory.org
SUMMARY:Swimming
DESCRIPTION:Join us for our last few practices before State!
URL:https://thearcstory.org/event/swimming-5/
LOCATION:Ames High Pool
END:VEVENT
BEGIN:VEVENT
DTSTART;TZID=UTC:20230508T173000
DTEND;TZID=UTC:20230508T183000
DTSTAMP:20260421T104720
CREATED:20230501T201845Z
LAST-MODIFIED:20230501T201845Z
UID:5523-1683567000-1683570600@thearcstory.org
SUMMARY:Track & Field
DESCRIPTION:Join us at the ISU outdoor track to keep practicing for State coming up this month!
URL:https://thearcstory.org/event/track-field-2/
LOCATION:IA
END:VEVENT
BEGIN:VEVENT
DTSTART;TZID=UTC:20230508T143000
DTEND;TZID=UTC:20230508T170000
DTSTAMP:20260421T104720
CREATED:20230501T200738Z
LAST-MODIFIED:20230501T200738Z
UID:5513-1683556200-1683565200@thearcstory.org
SUMMARY:Bowling
DESCRIPTION:Join us for bowling at Perfect Games for $2 games.
URL:https://thearcstory.org/event/bowling-48/
LOCATION:Perfect Games\, 1320 Dickinson Ave\, Ames\, IA\, 50014\, United States
END:VEVENT
BEGIN:VEVENT
DTSTART;TZID=UTC:20230504T163000
DTEND;TZID=UTC:20230504T173000
DTSTAMP:20260421T104720
CREATED:20230501T202527Z
LAST-MODIFIED:20230501T202527Z
UID:5537-1683217800-1683221400@thearcstory.org
SUMMARY:Soccer
DESCRIPTION:Join us for our last couple practices before State!
URL:https://thearcstory.org/event/soccer-2/
LOCATION:Hunziker\, 800 Billy Sunday Rd\, Ames\, IA\, United States
END:VEVENT
BEGIN:VEVENT
DTSTART;TZID=UTC:20230503T180000
DTEND;TZID=UTC:20230503T184500
DTSTAMP:20260421T104720
CREATED:20230501T202150Z
LAST-MODIFIED:20230501T202150Z
UID:5529-1683136800-1683139500@thearcstory.org
SUMMARY:Bocce
DESCRIPTION:Join us in the grassy area of Inis Grove Park to keep practicing for State!
URL:https://thearcstory.org/event/bocce/
LOCATION:Inis Grove Park\, 2500 Duff Ave\, Ames\, IA\, 50010\, United States
END:VEVENT
BEGIN:VEVENT
DTSTART;TZID=UTC:20230502T183000
DTEND;TZID=UTC:20230502T193000
DTSTAMP:20260421T104720
CREATED:20230501T202903Z
LAST-MODIFIED:20230501T202903Z
UID:5543-1683052200-1683055800@thearcstory.org
SUMMARY:Swimming
DESCRIPTION:Join us for our last few practices before State!
URL:https://thearcstory.org/event/swimming-4/
LOCATION:Ames High Pool
END:VEVENT
BEGIN:VEVENT
DTSTART;TZID=UTC:20230501T173000
DTEND;TZID=UTC:20230501T183000
DTSTAMP:20260421T104720
CREATED:20230501T201806Z
LAST-MODIFIED:20230501T201806Z
UID:5521-1682962200-1682965800@thearcstory.org
SUMMARY:Track & Field
DESCRIPTION:Join us at the ISU outdoor track to keep practicing for State coming up this month!
URL:https://thearcstory.org/event/track-field/
LOCATION:IA
END:VEVENT
BEGIN:VEVENT
DTSTART;TZID=UTC:20230501T143000
DTEND;TZID=UTC:20230501T170000
DTSTAMP:20260421T104720
CREATED:20230501T200657Z
LAST-MODIFIED:20230501T200657Z
UID:5511-1682951400-1682960400@thearcstory.org
SUMMARY:Bowling
DESCRIPTION:Join us for bowling at Perfect Games for $2 games.
URL:https://thearcstory.org/event/bowling-47/
LOCATION:Perfect Games\, 1320 Dickinson Ave\, Ames\, IA\, 50014\, United States
END:VEVENT
BEGIN:VEVENT
DTSTART;TZID=UTC:20230427T180000
DTEND;TZID=UTC:20230427T184500
DTSTAMP:20260421T104720
CREATED:20230402T011702Z
LAST-MODIFIED:20230402T011702Z
UID:5494-1682618400-1682621100@thearcstory.org
SUMMARY:Cycling Practice
DESCRIPTION:Join us to practice your cycling skills for the upcoming State tournament!
URL:https://thearcstory.org/event/cycling-practice-8/
LOCATION:Inis Grove Park\, 2500 Duff Ave\, Ames\, IA\, 50010\, United States
END:VEVENT
BEGIN:VEVENT
DTSTART;TZID=UTC:20230427T163000
DTEND;TZID=UTC:20230427T173000
DTSTAMP:20260421T104720
CREATED:20230402T012209Z
LAST-MODIFIED:20230402T012209Z
UID:5503-1682613000-1682616600@thearcstory.org
SUMMARY:Soccer Practice
DESCRIPTION:Join us to practice our soccer playing skills before the State tournament coming up in May!
URL:https://thearcstory.org/event/soccer-practice-12/
LOCATION:Hunziker\, 800 Billy Sunday Rd\, Ames\, IA\, United States
END:VEVENT
END:VCALENDAR