BEGIN:VCALENDAR
VERSION:2.0
PRODID:-//Arc of Story County - ECPv6.15.20//NONSGML v1.0//EN
CALSCALE:GREGORIAN
METHOD:PUBLISH
X-ORIGINAL-URL:https://thearcstory.org
X-WR-CALDESC:Events for Arc of Story County
REFRESH-INTERVAL;VALUE=DURATION:PT1H
X-Robots-Tag:noindex
X-PUBLISHED-TTL:PT1H
BEGIN:VTIMEZONE
TZID:UTC
BEGIN:STANDARD
TZOFFSETFROM:+0000
TZOFFSETTO:+0000
TZNAME:UTC
DTSTART:20220101T000000
END:STANDARD
END:VTIMEZONE
BEGIN:VEVENT
DTSTART;VALUE=DATE:20230715
DTEND;VALUE=DATE:20230716
DTSTAMP:20260423T211357
CREATED:20230530T182907Z
LAST-MODIFIED:20230530T182907Z
UID:5560-1689379200-1689465599@thearcstory.org
SUMMARY:Softball District Tournament
DESCRIPTION:We will have our District tournament on July 15th at a new location: George Davis Softball Complex.
URL:https://thearcstory.org/event/softball-district-tournament-2/
LOCATION:George Davis Softball Complex\, 4980 NE 46th St\, Des Moines\, IA\, 50317\, United States
END:VEVENT
BEGIN:VEVENT
DTSTART;TZID=UTC:20230717T180000
DTEND;TZID=UTC:20230717T193000
DTSTAMP:20260423T211357
CREATED:20230703T203449Z
LAST-MODIFIED:20230703T203449Z
UID:5616-1689616800-1689622200@thearcstory.org
SUMMARY:Softball Practice
DESCRIPTION:Join us on Fields 1 and 2 for softball practices. We are preparing for State on August 5th! Plan to bring lots of water and appropriate attire for the warm weather!
URL:https://thearcstory.org/event/softball-practice-29/
LOCATION:North River Valley Park\, 725 E 13th St\, Ames\, IA\, 50010\, United States
END:VEVENT
BEGIN:VEVENT
DTSTART;TZID=UTC:20230718T163000
DTEND;TZID=UTC:20230718T173000
DTSTAMP:20260423T211357
CREATED:20230530T183534Z
LAST-MODIFIED:20230530T183534Z
UID:5570-1689697800-1689701400@thearcstory.org
SUMMARY:SCC Scavenger Hunt
DESCRIPTION:Story County Conservation will be helping us put on a Scavenger Hunt! We will be sending out more details via email!
URL:https://thearcstory.org/event/scc-scavenger-hunt/
LOCATION:Hickory Grove Park\, 67464 250th St\, Colo\, IA\, 50056\, United States
END:VEVENT
BEGIN:VEVENT
DTSTART;TZID=UTC:20230720T180000
DTEND;TZID=UTC:20230720T193000
DTSTAMP:20260423T211357
CREATED:20230703T203839Z
LAST-MODIFIED:20230703T203839Z
UID:5624-1689876000-1689881400@thearcstory.org
SUMMARY:Softball Practice
DESCRIPTION:Join us on Fields 1 and 2 for softball practices. We are preparing for State on August 5th! Plan to bring lots of water and appropriate attire for the warm weather!
URL:https://thearcstory.org/event/softball-practice-33/
LOCATION:North River Valley Park\, 725 E 13th St\, Ames\, IA\, 50010\, United States
END:VEVENT
BEGIN:VEVENT
DTSTART;TZID=UTC:20230724T180000
DTEND;TZID=UTC:20230724T193000
DTSTAMP:20260423T211357
CREATED:20230703T203530Z
LAST-MODIFIED:20230703T203530Z
UID:5618-1690221600-1690227000@thearcstory.org
SUMMARY:Softball Practice
DESCRIPTION:Join us on Fields 1 and 2 for softball practices. We are preparing for State on August 5th! Plan to bring lots of water and appropriate attire for the warm weather!
URL:https://thearcstory.org/event/softball-practice-30/
LOCATION:North River Valley Park\, 725 E 13th St\, Ames\, IA\, 50010\, United States
END:VEVENT
BEGIN:VEVENT
DTSTART;TZID=UTC:20230725T180000
DTEND;TZID=UTC:20230725T190000
DTSTAMP:20260423T211357
CREATED:20230530T192144Z
LAST-MODIFIED:20230530T192144Z
UID:5591-1690308000-1690311600@thearcstory.org
SUMMARY:Kickball Night
DESCRIPTION:Join us for a night of kickball! We will choose teams when everyone arrives. Wear good shoes and bring water!
URL:https://thearcstory.org/event/kickball-night-2/
LOCATION:Inis Grove Park\, 2500 Duff Ave\, Ames\, IA\, 50010\, United States
END:VEVENT
BEGIN:VEVENT
DTSTART;TZID=UTC:20230727T180000
DTEND;TZID=UTC:20230727T193000
DTSTAMP:20260423T211357
CREATED:20230703T203914Z
LAST-MODIFIED:20230703T203914Z
UID:5626-1690480800-1690486200@thearcstory.org
SUMMARY:Softball Practice
DESCRIPTION:Join us on Fields 1 and 2 for softball practices. We are preparing for State on August 5th! Plan to bring lots of water and appropriate attire for the warm weather!
URL:https://thearcstory.org/event/softball-practice-34/
LOCATION:IA
END:VEVENT
BEGIN:VEVENT
DTSTART;TZID=UTC:20230731T180000
DTEND;TZID=UTC:20230731T193000
DTSTAMP:20260423T211357
CREATED:20230703T203605Z
LAST-MODIFIED:20230703T203605Z
UID:5620-1690826400-1690831800@thearcstory.org
SUMMARY:Softball Practice
DESCRIPTION:Join us on Fields 1 and 2 for softball practices. We are preparing for State on August 5th! Plan to bring lots of water and appropriate attire for the warm weather!
URL:https://thearcstory.org/event/softball-practice-31/
LOCATION:North River Valley Park\, 725 E 13th St\, Ames\, IA\, 50010\, United States
END:VEVENT
BEGIN:VEVENT
DTSTART;TZID=UTC:20230801T163000
DTEND;TZID=UTC:20230801T173000
DTSTAMP:20260423T211357
CREATED:20230530T183646Z
LAST-MODIFIED:20230530T183646Z
UID:5572-1690907400-1690911000@thearcstory.org
SUMMARY:SCC Campfire Cooking
DESCRIPTION:Story County Conservation will be holding a campfire cookout for us! We will learn to cook things over the fire\, and about fire safety. We will be sending more details via email!
URL:https://thearcstory.org/event/scc-campfire-cooking/
LOCATION:McFarland Park\, 56461 180th St\, Ames\, IA\, 50010\, United States
END:VEVENT
BEGIN:VEVENT
DTSTART;TZID=UTC:20230803T180000
DTEND;TZID=UTC:20230803T193000
DTSTAMP:20260423T211357
CREATED:20230703T203948Z
LAST-MODIFIED:20230703T203948Z
UID:5628-1691085600-1691091000@thearcstory.org
SUMMARY:Softball Practice
DESCRIPTION:Join us on Fields 1 and 2 for softball practices. We are preparing for State on August 5th! Plan to bring lots of water and appropriate attire for the warm weather!
URL:https://thearcstory.org/event/softball-practice-35/
LOCATION:North River Valley Park\, 725 E 13th St\, Ames\, IA\, 50010\, United States
END:VEVENT
BEGIN:VEVENT
DTSTART;VALUE=DATE:20230805
DTEND;VALUE=DATE:20230806
DTSTAMP:20260423T211357
CREATED:20230530T182954Z
LAST-MODIFIED:20230530T182954Z
UID:5563-1691193600-1691279999@thearcstory.org
SUMMARY:State Softball Tournament
DESCRIPTION:The State Softball tournament will be held in Ankeny.
URL:https://thearcstory.org/event/state-softball-tournament-2/
LOCATION:IA
END:VEVENT
BEGIN:VEVENT
DTSTART;TZID=UTC:20230808T173000
DTEND;TZID=UTC:20230808T193000
DTSTAMP:20260423T211357
CREATED:20230530T211833Z
LAST-MODIFIED:20230530T211833Z
UID:5593-1691515800-1691523000@thearcstory.org
SUMMARY:Ice Cream Social
DESCRIPTION:Join us at the Inis Grove Park for an Ice Cream Social! Culver’s will be bringing different ice cream flavors\, along with toppings to put on it! Come have a fun night with friends and socialize while eating a yummy treat!
URL:https://thearcstory.org/event/ice-cream-social-4/
LOCATION:Inis Grove Park\, 2500 Duff Ave\, Ames\, IA\, 50010\, United States
END:VEVENT
BEGIN:VEVENT
DTSTART;TZID=UTC:20230810T163000
DTEND;TZID=UTC:20230810T173000
DTSTAMP:20260423T211357
CREATED:20230802T005507Z
LAST-MODIFIED:20230802T005507Z
UID:5648-1691685000-1691688600@thearcstory.org
SUMMARY:Golf
DESCRIPTION:We will begin practices for the upcoming tournament. Please plan to bring your own clubs\, your unified partner\, and a few dollars or card to get range balls.
URL:https://thearcstory.org/event/golf-3/
LOCATION:Veenker Golf Course\, 2916 Veenker Dr\, Ames\, IA\, 50011\, United States
END:VEVENT
BEGIN:VEVENT
DTSTART;TZID=UTC:20230810T180000
DTEND;TZID=UTC:20230810T190000
DTSTAMP:20260423T211357
CREATED:20230802T010620Z
LAST-MODIFIED:20230802T010935Z
UID:5657-1691690400-1691694000@thearcstory.org
SUMMARY:Flag Football
DESCRIPTION:Please wear tennis shoes or football cleats. We will be in the big grassy area West of the Miracle Field.
URL:https://thearcstory.org/event/flag-football-10/
LOCATION:Inis Grove Park\, 2500 Duff Ave\, Ames\, IA\, 50010\, United States
END:VEVENT
BEGIN:VEVENT
DTSTART;TZID=UTC:20230814T143000
DTEND;TZID=UTC:20230814T170000
DTSTAMP:20260423T211357
CREATED:20230802T005243Z
LAST-MODIFIED:20230802T005243Z
UID:5642-1692023400-1692032400@thearcstory.org
SUMMARY:Bowling
DESCRIPTION:We will start making teams\, collecting scores\, and getting ready for the upcoming tournament! Games are $2 each.
URL:https://thearcstory.org/event/bowling-51/
LOCATION:Perfect Games\, 1320 Dickinson Ave\, Ames\, IA\, 50014\, United States
END:VEVENT
BEGIN:VEVENT
DTSTART;TZID=UTC:20230815T180000
DTEND;TZID=UTC:20230815T193000
DTSTAMP:20260423T211357
CREATED:20230802T004235Z
LAST-MODIFIED:20230802T004235Z
UID:5634-1692122400-1692127800@thearcstory.org
SUMMARY:Volleyball Practice
DESCRIPTION:Join us these first few weeks for assessments\, so we can get registered for the upcoming Fall Classic!
URL:https://thearcstory.org/event/volleyball-practice-3/
LOCATION:All Iowa Attack Gym\, 1005 Dickinson Ave\, Ames\, IA\, United States
END:VEVENT
BEGIN:VEVENT
DTSTART;TZID=UTC:20230817T163000
DTEND;TZID=UTC:20230817T173000
DTSTAMP:20260423T211357
CREATED:20230802T010432Z
LAST-MODIFIED:20230802T010432Z
UID:5653-1692289800-1692293400@thearcstory.org
SUMMARY:Golf
DESCRIPTION:Please plan to bring clubs\, your unified partner\, and a few dollars or a card to pay for range balls.
URL:https://thearcstory.org/event/golf-5/
LOCATION:Veenker Golf Course\, 2916 Veenker Dr\, Ames\, IA\, 50011\, United States
END:VEVENT
BEGIN:VEVENT
DTSTART;TZID=UTC:20230817T180000
DTEND;TZID=UTC:20230817T190000
DTSTAMP:20260423T211357
CREATED:20230802T010648Z
LAST-MODIFIED:20230802T010834Z
UID:5659-1692295200-1692298800@thearcstory.org
SUMMARY:Flag Football
DESCRIPTION:Please wear tennis shoes or football cleats. We will be in the big grassy area West of the Miracle Field.
URL:https://thearcstory.org/event/flag-football-11/
LOCATION:Inis Grove Park\, 2500 Duff Ave\, Ames\, IA\, 50010\, United States
END:VEVENT
BEGIN:VEVENT
DTSTART;TZID=UTC:20230821T143000
DTEND;TZID=UTC:20230821T170000
DTSTAMP:20260423T211357
CREATED:20230802T005310Z
LAST-MODIFIED:20230802T005310Z
UID:5644-1692628200-1692637200@thearcstory.org
SUMMARY:Bowling
DESCRIPTION:We will start making teams\, collecting scores\, and getting ready for the upcoming tournament! Games are $2 each.
URL:https://thearcstory.org/event/bowling-52/
LOCATION:Perfect Games\, 1320 Dickinson Ave\, Ames\, IA\, 50014\, United States
END:VEVENT
BEGIN:VEVENT
DTSTART;TZID=UTC:20230821T180000
DTEND;TZID=UTC:20230821T190000
DTSTAMP:20260423T211357
CREATED:20230802T011653Z
LAST-MODIFIED:20230802T011653Z
UID:5669-1692640800-1692644400@thearcstory.org
SUMMARY:Kickball
DESCRIPTION:Please bring water and wear appropriate running shoes. We will be on the Miracle Field.
URL:https://thearcstory.org/event/kickball/
LOCATION:Inis Grove Park\, 2500 Duff Ave\, Ames\, IA\, 50010\, United States
END:VEVENT
BEGIN:VEVENT
DTSTART;TZID=UTC:20230822T180000
DTEND;TZID=UTC:20230822T193000
DTSTAMP:20260423T211357
CREATED:20230802T004307Z
LAST-MODIFIED:20230802T004307Z
UID:5636-1692727200-1692732600@thearcstory.org
SUMMARY:Volleyball Practice
DESCRIPTION:Join us these first few weeks for assessments\, so we can get registered for the upcoming Fall Classic!
URL:https://thearcstory.org/event/volleyball-practice-4/
LOCATION:All Iowa Attack Gym\, 1005 Dickinson Ave\, Ames\, IA\, United States
END:VEVENT
BEGIN:VEVENT
DTSTART;TZID=UTC:20230824T163000
DTEND;TZID=UTC:20230824T173000
DTSTAMP:20260423T211357
CREATED:20230802T005834Z
LAST-MODIFIED:20230802T005834Z
UID:5651-1692894600-1692898200@thearcstory.org
SUMMARY:Golf
DESCRIPTION:Please plan to bring clubs\, your unified partner\, and a few dollars or a card to pay for range balls.
URL:https://thearcstory.org/event/golf-4/
LOCATION:Veenker Golf Course\, 2916 Veenker Dr\, Ames\, IA\, 50011\, United States
END:VEVENT
BEGIN:VEVENT
DTSTART;TZID=UTC:20230824T180000
DTEND;TZID=UTC:20230824T190000
DTSTAMP:20260423T211357
CREATED:20230802T010749Z
LAST-MODIFIED:20230802T010749Z
UID:5661-1692900000-1692903600@thearcstory.org
SUMMARY:Flag Football
DESCRIPTION:Please wear tennis shoes or football cleats. We will be in the big grassy area West of the Miracle Field.
URL:https://thearcstory.org/event/flag-football-12/
LOCATION:Inis Grove Park\, 2500 Duff Ave\, Ames\, IA\, 50010\, United States
END:VEVENT
BEGIN:VEVENT
DTSTART;TZID=UTC:20230828T143000
DTEND;TZID=UTC:20230828T170000
DTSTAMP:20260423T211357
CREATED:20230802T005339Z
LAST-MODIFIED:20230802T005339Z
UID:5646-1693233000-1693242000@thearcstory.org
SUMMARY:Bowling
DESCRIPTION:We will start making teams\, collecting scores\, and getting ready for the upcoming tournament! Games are $2 each.
URL:https://thearcstory.org/event/bowling-53/
LOCATION:Perfect Games\, 1320 Dickinson Ave\, Ames\, IA\, 50014\, United States
END:VEVENT
BEGIN:VEVENT
DTSTART;TZID=UTC:20230829T180000
DTEND;TZID=UTC:20230829T193000
DTSTAMP:20260423T211357
CREATED:20230802T004506Z
LAST-MODIFIED:20230802T004506Z
UID:5639-1693332000-1693337400@thearcstory.org
SUMMARY:Volleyball Practice
DESCRIPTION:Join us these first few weeks for assessments\, so we can get registered for the upcoming Fall Classic!
URL:https://thearcstory.org/event/volleyball-practice-5/
LOCATION:All Iowa Attack Gym\, 1005 Dickinson Ave\, Ames\, IA\, United States
END:VEVENT
BEGIN:VEVENT
DTSTART;TZID=UTC:20230831T163000
DTEND;TZID=UTC:20230831T173000
DTSTAMP:20260423T211357
CREATED:20230802T010457Z
LAST-MODIFIED:20230802T010457Z
UID:5655-1693499400-1693503000@thearcstory.org
SUMMARY:Golf
DESCRIPTION:Please plan to bring clubs\, your unified partner\, and a few dollars or a card to pay for range balls.
URL:https://thearcstory.org/event/golf-6/
LOCATION:Veenker Golf Course\, 2916 Veenker Dr\, Ames\, IA\, 50011\, United States
END:VEVENT
BEGIN:VEVENT
DTSTART;TZID=UTC:20230831T180000
DTEND;TZID=UTC:20230831T190000
DTSTAMP:20260423T211357
CREATED:20230802T011009Z
LAST-MODIFIED:20230802T011009Z
UID:5663-1693504800-1693508400@thearcstory.org
SUMMARY:Flag Football
DESCRIPTION:Please wear tennis shoes or football cleats. We will be in the big grassy area West of the Miracle Field.
URL:https://thearcstory.org/event/flag-football-13/
LOCATION:Inis Grove Park\, 2500 Duff Ave\, Ames\, IA\, 50010\, United States
END:VEVENT
BEGIN:VEVENT
DTSTART;VALUE=DATE:20230904
DTEND;VALUE=DATE:20230905
DTSTAMP:20260423T211357
CREATED:20230901T231711Z
LAST-MODIFIED:20230901T231724Z
UID:5724-1693785600-1693871999@thearcstory.org
SUMMARY:No Activities
DESCRIPTION:Happy Labor Day! Enjoy your weekend!
URL:https://thearcstory.org/event/no-activities-3/
LOCATION:IA
END:VEVENT
BEGIN:VEVENT
DTSTART;TZID=UTC:20230905T180000
DTEND;TZID=UTC:20230905T193000
DTSTAMP:20260423T211357
CREATED:20230905T161717Z
LAST-MODIFIED:20230905T161717Z
UID:5752-1693936800-1693942200@thearcstory.org
SUMMARY:Volleyball
DESCRIPTION:Join us at the Attack Gym to practice for the upcoming tournament!
URL:https://thearcstory.org/event/volleyball-10/
LOCATION:All Iowa Attack Gym\, 1005 Dickinson Ave\, Ames\, IA\, United States
END:VEVENT
BEGIN:VEVENT
DTSTART;TZID=UTC:20230907T163000
DTEND;TZID=UTC:20230907T173000
DTSTAMP:20260423T211357
CREATED:20230902T010720Z
LAST-MODIFIED:20230902T010720Z
UID:5740-1694104200-1694107800@thearcstory.org
SUMMARY:Golf
DESCRIPTION:Join us to practice on the driving range and the putting green!
URL:https://thearcstory.org/event/golf-9/
LOCATION:Veenker Golf Course\, 2916 Veenker Dr\, Ames\, IA\, 50011\, United States
END:VEVENT
END:VCALENDAR