BEGIN:VCALENDAR
VERSION:2.0
PRODID:-//Arc of Story County - ECPv6.15.20//NONSGML v1.0//EN
CALSCALE:GREGORIAN
METHOD:PUBLISH
X-ORIGINAL-URL:https://thearcstory.org
X-WR-CALDESC:Events for Arc of Story County
REFRESH-INTERVAL;VALUE=DURATION:PT1H
X-Robots-Tag:noindex
X-PUBLISHED-TTL:PT1H
BEGIN:VTIMEZONE
TZID:UTC
BEGIN:STANDARD
TZOFFSETFROM:+0000
TZOFFSETTO:+0000
TZNAME:UTC
DTSTART:20230101T000000
END:STANDARD
END:VTIMEZONE
BEGIN:VEVENT
DTSTART;TZID=UTC:20240404T163000
DTEND;TZID=UTC:20240404T173000
DTSTAMP:20260421T125445
CREATED:20240214T063958Z
LAST-MODIFIED:20240214T063958Z
UID:5951-1712248200-1712251800@thearcstory.org
SUMMARY:First Soccer Practice
DESCRIPTION:We will begin practicing for the State Tournament!
URL:https://thearcstory.org/event/first-soccer-practice/
LOCATION:Hunziker\, 800 Billy Sunday Rd\, Ames\, IA\, United States
END:VEVENT
BEGIN:VEVENT
DTSTART;TZID=UTC:20240404T190000
DTEND;TZID=UTC:20240404T200000
DTSTAMP:20260421T125445
CREATED:20240410T025406Z
LAST-MODIFIED:20240410T025406Z
UID:6134-1712257200-1712260800@thearcstory.org
SUMMARY:Swimming
DESCRIPTION:Join us to practice swim events for the regional and Summer Games tournaments!
URL:https://thearcstory.org/event/swimming-9/
LOCATION:Ames High Pool
END:VEVENT
END:VCALENDAR