BEGIN:VCALENDAR
VERSION:2.0
PRODID:-//Arc of Story County - ECPv6.15.20//NONSGML v1.0//EN
CALSCALE:GREGORIAN
METHOD:PUBLISH
X-ORIGINAL-URL:https://thearcstory.org
X-WR-CALDESC:Events for Arc of Story County
REFRESH-INTERVAL;VALUE=DURATION:PT1H
X-Robots-Tag:noindex
X-PUBLISHED-TTL:PT1H
BEGIN:VTIMEZONE
TZID:UTC
BEGIN:STANDARD
TZOFFSETFROM:+0000
TZOFFSETTO:+0000
TZNAME:UTC
DTSTART:20230101T000000
END:STANDARD
END:VTIMEZONE
BEGIN:VEVENT
DTSTART;TZID=UTC:20240229T190000
DTEND;TZID=UTC:20240229T200000
DTSTAMP:20260421T092120
CREATED:20240214T063435Z
LAST-MODIFIED:20240214T063435Z
UID:5943-1709233200-1709236800@thearcstory.org
SUMMARY:Swim Practice
DESCRIPTION:We will be getting ready for the district tournament!
URL:https://thearcstory.org/event/swim-practice-11/
LOCATION:Ames High Pool
END:VEVENT
END:VCALENDAR