BEGIN:VCALENDAR
VERSION:2.0
PRODID:-//Arc of Story County - ECPv6.15.20//NONSGML v1.0//EN
CALSCALE:GREGORIAN
METHOD:PUBLISH
X-ORIGINAL-URL:https://thearcstory.org
X-WR-CALDESC:Events for Arc of Story County
REFRESH-INTERVAL;VALUE=DURATION:PT1H
X-Robots-Tag:noindex
X-PUBLISHED-TTL:PT1H
BEGIN:VTIMEZONE
TZID:UTC
BEGIN:STANDARD
TZOFFSETFROM:+0000
TZOFFSETTO:+0000
TZNAME:UTC
DTSTART:20220101T000000
END:STANDARD
END:VTIMEZONE
BEGIN:VEVENT
DTSTART;TZID=UTC:20231218T143000
DTEND;TZID=UTC:20231218T170000
DTSTAMP:20260423T151408
CREATED:20231130T220439Z
LAST-MODIFIED:20231130T220439Z
UID:5853-1702909800-1702918800@thearcstory.org
SUMMARY:Bowling
DESCRIPTION:Games are $2 each\, come have fun with your friends!
URL:https://thearcstory.org/event/bowling-68/
LOCATION:Perfect Games\, 1320 Dickinson Ave\, Ames\, IA\, 50014\, United States
END:VEVENT
BEGIN:VEVENT
DTSTART;TZID=UTC:20231218T180000
DTEND;TZID=UTC:20231218T190000
DTSTAMP:20260423T151408
CREATED:20231130T215805Z
LAST-MODIFIED:20231130T215805Z
UID:5847-1702922400-1702926000@thearcstory.org
SUMMARY:Dance
DESCRIPTION:We are working on dances\, songs\, and teams\, and we’re having so much fun doing it! Come join us!
URL:https://thearcstory.org/event/dance-14/
LOCATION:First United Methodist Church
END:VEVENT
END:VCALENDAR