BEGIN:VCALENDAR
VERSION:2.0
PRODID:-//Arc of Story County - ECPv6.15.20//NONSGML v1.0//EN
CALSCALE:GREGORIAN
METHOD:PUBLISH
X-WR-CALNAME:Arc of Story County
X-ORIGINAL-URL:https://thearcstory.org
X-WR-CALDESC:Events for Arc of Story County
REFRESH-INTERVAL;VALUE=DURATION:PT1H
X-Robots-Tag:noindex
X-PUBLISHED-TTL:PT1H
BEGIN:VTIMEZONE
TZID:UTC
BEGIN:STANDARD
TZOFFSETFROM:+0000
TZOFFSETTO:+0000
TZNAME:UTC
DTSTART:20220101T000000
END:STANDARD
END:VTIMEZONE
BEGIN:VEVENT
DTSTART;TZID=UTC:20231120T143000
DTEND;TZID=UTC:20231120T170000
DTSTAMP:20260425T133225
CREATED:20231101T191938Z
LAST-MODIFIED:20231101T191938Z
UID:5812-1700490600-1700499600@thearcstory.org
SUMMARY:Bowling
DESCRIPTION:Join us to continue bowling and having fun with friends!
URL:https://thearcstory.org/event/bowling-64/
LOCATION:Perfect Games\, 1320 Dickinson Ave\, Ames\, IA\, 50014\, United States
END:VEVENT
BEGIN:VEVENT
DTSTART;TZID=UTC:20231120T180000
DTEND;TZID=UTC:20231120T190000
DTSTAMP:20260425T133225
CREATED:20231101T192201Z
LAST-MODIFIED:20231101T192201Z
UID:5814-1700503200-1700506800@thearcstory.org
SUMMARY:First Dance Practice
DESCRIPTION:We will be starting our dance practices tonight! We will work to try and make teams and assess everyone’s abilities!
URL:https://thearcstory.org/event/first-dance-practice/
LOCATION:First United Methodist Church
END:VEVENT
END:VCALENDAR