BEGIN:VCALENDAR
VERSION:2.0
PRODID:-//Arc of Story County - ECPv6.15.20//NONSGML v1.0//EN
CALSCALE:GREGORIAN
METHOD:PUBLISH
X-WR-CALNAME:Arc of Story County
X-ORIGINAL-URL:https://thearcstory.org
X-WR-CALDESC:Events for Arc of Story County
REFRESH-INTERVAL;VALUE=DURATION:PT1H
X-Robots-Tag:noindex
X-PUBLISHED-TTL:PT1H
BEGIN:VTIMEZONE
TZID:UTC
BEGIN:STANDARD
TZOFFSETFROM:+0000
TZOFFSETTO:+0000
TZNAME:UTC
DTSTART:20220101T000000
END:STANDARD
END:VTIMEZONE
BEGIN:VEVENT
DTSTART;VALUE=DATE:20231118
DTEND;VALUE=DATE:20231119
DTSTAMP:20260421T144754
CREATED:20231101T184924Z
LAST-MODIFIED:20231101T184924Z
UID:5800-1700265600-1700351999@thearcstory.org
SUMMARY:State Bowling Tournament
DESCRIPTION:Check your email for which section you need to bowl in\, and that will determine what time you should be there to register. Good luck to our bowlers and have fun!
URL:https://thearcstory.org/event/state-bowling-tournament-3/
LOCATION:Bowlerama Lanes\, 1313 E Diehl Ave\, Des Moines\, IA\, United States
END:VEVENT
END:VCALENDAR