BEGIN:VCALENDAR
VERSION:2.0
PRODID:-//Arc of Story County - ECPv6.15.20//NONSGML v1.0//EN
CALSCALE:GREGORIAN
METHOD:PUBLISH
X-WR-CALNAME:Arc of Story County
X-ORIGINAL-URL:https://thearcstory.org
X-WR-CALDESC:Events for Arc of Story County
REFRESH-INTERVAL;VALUE=DURATION:PT1H
X-Robots-Tag:noindex
X-PUBLISHED-TTL:PT1H
BEGIN:VTIMEZONE
TZID:UTC
BEGIN:STANDARD
TZOFFSETFROM:+0000
TZOFFSETTO:+0000
TZNAME:UTC
DTSTART:20220101T000000
END:STANDARD
END:VTIMEZONE
BEGIN:VEVENT
DTSTART;TZID=UTC:20231114T180000
DTEND;TZID=UTC:20231114T193000
DTSTAMP:20260421T161318
CREATED:20231101T193216Z
LAST-MODIFIED:20231101T193216Z
UID:5824-1699984800-1699990200@thearcstory.org
SUMMARY:Basketball
DESCRIPTION:We are so excited that basketball is back! We will take the first few weeks to assess players\, have some fun\, and decide which teams or skills to put people in!
URL:https://thearcstory.org/event/basketball-21/
LOCATION:All Iowa Attack Gym\, 1005 Dickinson Ave\, Ames\, IA\, United States
END:VEVENT
END:VCALENDAR