BEGIN:VCALENDAR
VERSION:2.0
PRODID:-//Arc of Story County - ECPv6.15.20//NONSGML v1.0//EN
CALSCALE:GREGORIAN
METHOD:PUBLISH
X-WR-CALNAME:Arc of Story County
X-ORIGINAL-URL:https://thearcstory.org
X-WR-CALDESC:Events for Arc of Story County
REFRESH-INTERVAL;VALUE=DURATION:PT1H
X-Robots-Tag:noindex
X-PUBLISHED-TTL:PT1H
BEGIN:VTIMEZONE
TZID:UTC
BEGIN:STANDARD
TZOFFSETFROM:+0000
TZOFFSETTO:+0000
TZNAME:UTC
DTSTART:20220101T000000
END:STANDARD
END:VTIMEZONE
BEGIN:VEVENT
DTSTART;TZID=UTC:20231030T173000
DTEND;TZID=UTC:20231030T190000
DTSTAMP:20260421T143420
CREATED:20231002T231820Z
LAST-MODIFIED:20231002T231820Z
UID:5780-1698687000-1698692400@thearcstory.org
SUMMARY:Cooking Class
DESCRIPTION:We hold our cooking classes every Monday from 5:30-7:00pm. We try different recipes and work in teams to complete tasks!
URL:https://thearcstory.org/event/cooking-class-18/
LOCATION:Ames Middle School\, 3915 Mortensen Rd\, Ames\, IA\, 50014\, United States
END:VEVENT
BEGIN:VEVENT
DTSTART;TZID=UTC:20231030T173000
DTEND;TZID=UTC:20231030T190000
DTSTAMP:20260421T143420
CREATED:20231002T232949Z
LAST-MODIFIED:20231002T232949Z
UID:5790-1698687000-1698692400@thearcstory.org
SUMMARY:Bowling
DESCRIPTION:Join us at Perfect Games for $2 games of bowling! We are practicing and preparing for the tournaments coming up!
URL:https://thearcstory.org/event/bowling-61/
LOCATION:Perfect Games\, 1320 Dickinson Ave\, Ames\, IA\, 50014\, United States
END:VEVENT
END:VCALENDAR