BEGIN:VCALENDAR
VERSION:2.0
PRODID:-//Arc of Story County - ECPv6.15.20//NONSGML v1.0//EN
CALSCALE:GREGORIAN
METHOD:PUBLISH
X-ORIGINAL-URL:https://thearcstory.org
X-WR-CALDESC:Events for Arc of Story County
REFRESH-INTERVAL;VALUE=DURATION:PT1H
X-Robots-Tag:noindex
X-PUBLISHED-TTL:PT1H
BEGIN:VTIMEZONE
TZID:UTC
BEGIN:STANDARD
TZOFFSETFROM:+0000
TZOFFSETTO:+0000
TZNAME:UTC
DTSTART:20220101T000000
END:STANDARD
END:VTIMEZONE
BEGIN:VEVENT
DTSTART;TZID=UTC:20231013T110000
DTEND;TZID=UTC:20231013T140000
DTSTAMP:20260423T151418
CREATED:20231002T225756Z
LAST-MODIFIED:20231002T225756Z
UID:5768-1697194800-1697205600@thearcstory.org
SUMMARY:Regional Bowling Tournament
DESCRIPTION:We will be at Perfect Games for our Regional Bowling Tournament! It will begin at 11:00\, and each bowler and team will get to play a few games! We will send more information via email when we get it!
URL:https://thearcstory.org/event/regional-bowling-tournament/
LOCATION:Perfect Games\, 1320 Dickinson Ave\, Ames\, IA\, 50014\, United States
END:VEVENT
END:VCALENDAR