BEGIN:VCALENDAR
VERSION:2.0
PRODID:-//Arc of Story County - ECPv6.15.20//NONSGML v1.0//EN
CALSCALE:GREGORIAN
METHOD:PUBLISH
X-ORIGINAL-URL:https://thearcstory.org
X-WR-CALDESC:Events for Arc of Story County
REFRESH-INTERVAL;VALUE=DURATION:PT1H
X-Robots-Tag:noindex
X-PUBLISHED-TTL:PT1H
BEGIN:VTIMEZONE
TZID:UTC
BEGIN:STANDARD
TZOFFSETFROM:+0000
TZOFFSETTO:+0000
TZNAME:UTC
DTSTART:20220101T000000
END:STANDARD
END:VTIMEZONE
BEGIN:VEVENT
DTSTART;TZID=UTC:20231009T143000
DTEND;TZID=UTC:20231009T170000
DTSTAMP:20260425T115841
CREATED:20231002T232339Z
LAST-MODIFIED:20231002T232653Z
UID:5784-1696861800-1696870800@thearcstory.org
SUMMARY:Bowling
DESCRIPTION:Join us at Perfect Games for $2 games of bowling! We are practicing and preparing for the tournaments coming up!
URL:https://thearcstory.org/event/bowling-58/
LOCATION:Perfect Games\, 1320 Dickinson Ave\, Ames\, IA\, 50014\, United States
END:VEVENT
BEGIN:VEVENT
DTSTART;TZID=UTC:20231009T173000
DTEND;TZID=UTC:20231009T190000
DTSTAMP:20260425T115841
CREATED:20231002T230924Z
LAST-MODIFIED:20231002T230924Z
UID:5772-1696872600-1696878000@thearcstory.org
SUMMARY:Cooking Class
DESCRIPTION:We hold our cooking classes every Monday from 5:30-7:00pm. We try different recipes and work in teams to complete tasks!
URL:https://thearcstory.org/event/cooking-class-14/
LOCATION:Ames Middle School\, 3915 Mortensen Rd\, Ames\, IA\, 50014\, United States
END:VEVENT
END:VCALENDAR