BEGIN:VCALENDAR
VERSION:2.0
PRODID:-//Arc of Story County - ECPv6.15.20//NONSGML v1.0//EN
CALSCALE:GREGORIAN
METHOD:PUBLISH
X-ORIGINAL-URL:https://thearcstory.org
X-WR-CALDESC:Events for Arc of Story County
REFRESH-INTERVAL;VALUE=DURATION:PT1H
X-Robots-Tag:noindex
X-PUBLISHED-TTL:PT1H
BEGIN:VTIMEZONE
TZID:UTC
BEGIN:STANDARD
TZOFFSETFROM:+0000
TZOFFSETTO:+0000
TZNAME:UTC
DTSTART:20220101T000000
END:STANDARD
END:VTIMEZONE
BEGIN:VEVENT
DTSTART;TZID=UTC:20230821T143000
DTEND;TZID=UTC:20230821T170000
DTSTAMP:20260423T143318
CREATED:20230802T005310Z
LAST-MODIFIED:20230802T005310Z
UID:5644-1692628200-1692637200@thearcstory.org
SUMMARY:Bowling
DESCRIPTION:We will start making teams\, collecting scores\, and getting ready for the upcoming tournament! Games are $2 each.
URL:https://thearcstory.org/event/bowling-52/
LOCATION:Perfect Games\, 1320 Dickinson Ave\, Ames\, IA\, 50014\, United States
END:VEVENT
BEGIN:VEVENT
DTSTART;TZID=UTC:20230821T180000
DTEND;TZID=UTC:20230821T190000
DTSTAMP:20260423T143318
CREATED:20230802T011653Z
LAST-MODIFIED:20230802T011653Z
UID:5669-1692640800-1692644400@thearcstory.org
SUMMARY:Kickball
DESCRIPTION:Please bring water and wear appropriate running shoes. We will be on the Miracle Field.
URL:https://thearcstory.org/event/kickball/
LOCATION:Inis Grove Park\, 2500 Duff Ave\, Ames\, IA\, 50010\, United States
END:VEVENT
END:VCALENDAR