BEGIN:VCALENDAR
VERSION:2.0
PRODID:-//Arc of Story County - ECPv6.15.20//NONSGML v1.0//EN
CALSCALE:GREGORIAN
METHOD:PUBLISH
X-WR-CALNAME:Arc of Story County
X-ORIGINAL-URL:https://thearcstory.org
X-WR-CALDESC:Events for Arc of Story County
REFRESH-INTERVAL;VALUE=DURATION:PT1H
X-Robots-Tag:noindex
X-PUBLISHED-TTL:PT1H
BEGIN:VTIMEZONE
TZID:UTC
BEGIN:STANDARD
TZOFFSETFROM:+0000
TZOFFSETTO:+0000
TZNAME:UTC
DTSTART:20220101T000000
END:STANDARD
END:VTIMEZONE
BEGIN:VEVENT
DTSTART;TZID=UTC:20230808T173000
DTEND;TZID=UTC:20230808T193000
DTSTAMP:20260423T160137
CREATED:20230530T211833Z
LAST-MODIFIED:20230530T211833Z
UID:5593-1691515800-1691523000@thearcstory.org
SUMMARY:Ice Cream Social
DESCRIPTION:Join us at the Inis Grove Park for an Ice Cream Social! Culver’s will be bringing different ice cream flavors\, along with toppings to put on it! Come have a fun night with friends and socialize while eating a yummy treat!
URL:https://thearcstory.org/event/ice-cream-social-4/
LOCATION:Inis Grove Park\, 2500 Duff Ave\, Ames\, IA\, 50010\, United States
END:VEVENT
END:VCALENDAR