BEGIN:VCALENDAR
VERSION:2.0
PRODID:-//Arc of Story County - ECPv6.15.20//NONSGML v1.0//EN
CALSCALE:GREGORIAN
METHOD:PUBLISH
X-ORIGINAL-URL:https://thearcstory.org
X-WR-CALDESC:Events for Arc of Story County
REFRESH-INTERVAL;VALUE=DURATION:PT1H
X-Robots-Tag:noindex
X-PUBLISHED-TTL:PT1H
BEGIN:VTIMEZONE
TZID:UTC
BEGIN:STANDARD
TZOFFSETFROM:+0000
TZOFFSETTO:+0000
TZNAME:UTC
DTSTART:20220101T000000
END:STANDARD
END:VTIMEZONE
BEGIN:VEVENT
DTSTART;TZID=UTC:20230703T180000
DTEND;TZID=UTC:20230703T193000
DTSTAMP:20260423T162000
CREATED:20230703T203156Z
LAST-MODIFIED:20230703T203156Z
UID:5612-1688407200-1688412600@thearcstory.org
SUMMARY:Optional Softball Practice
DESCRIPTION:Tonight’s softball practice will be optional\, due to the Holiday Weekend! Coach Steve and Cindy will be there for anyone who still wants to come! Everyone have fun and be safe!
URL:https://thearcstory.org/event/optional-softball-practice/
LOCATION:North River Valley Park\, 725 E 13th St\, Ames\, IA\, 50010\, United States
END:VEVENT
END:VCALENDAR