BEGIN:VCALENDAR
VERSION:2.0
PRODID:-//Arc of Story County - ECPv6.15.20//NONSGML v1.0//EN
CALSCALE:GREGORIAN
METHOD:PUBLISH
X-ORIGINAL-URL:https://thearcstory.org
X-WR-CALDESC:Events for Arc of Story County
REFRESH-INTERVAL;VALUE=DURATION:PT1H
X-Robots-Tag:noindex
X-PUBLISHED-TTL:PT1H
BEGIN:VTIMEZONE
TZID:UTC
BEGIN:STANDARD
TZOFFSETFROM:+0000
TZOFFSETTO:+0000
TZNAME:UTC
DTSTART:20220101T000000
END:STANDARD
END:VTIMEZONE
BEGIN:VEVENT
DTSTART;TZID=UTC:20230605T180000
DTEND;TZID=UTC:20230605T193000
DTSTAMP:20260423T210807
CREATED:20230530T183222Z
LAST-MODIFIED:20230530T183222Z
UID:5565-1685988000-1685993400@thearcstory.org
SUMMARY:First Softball Practice
DESCRIPTION:We will have practice on fields 1 and 2 on Mondays\, and 3 on Thursday\, until the beginning of July\, and we will get fields 1 and 2 for both nights.
URL:https://thearcstory.org/event/first-softball-practice/
LOCATION:North River Valley Park\, 725 E 13th St\, Ames\, IA\, 50010\, United States
END:VEVENT
END:VCALENDAR