BEGIN:VCALENDAR
VERSION:2.0
PRODID:-//Arc of Story County - ECPv6.15.20//NONSGML v1.0//EN
CALSCALE:GREGORIAN
METHOD:PUBLISH
X-ORIGINAL-URL:https://thearcstory.org
X-WR-CALDESC:Events for Arc of Story County
REFRESH-INTERVAL;VALUE=DURATION:PT1H
X-Robots-Tag:noindex
X-PUBLISHED-TTL:PT1H
BEGIN:VTIMEZONE
TZID:UTC
BEGIN:STANDARD
TZOFFSETFROM:+0000
TZOFFSETTO:+0000
TZNAME:UTC
DTSTART:20220101T000000
END:STANDARD
END:VTIMEZONE
BEGIN:VEVENT
DTSTART;TZID=UTC:20230522T143000
DTEND;TZID=UTC:20230522T170000
DTSTAMP:20260425T114746
CREATED:20230501T200910Z
LAST-MODIFIED:20230501T200910Z
UID:5517-1684765800-1684774800@thearcstory.org
SUMMARY:Bowling
DESCRIPTION:Join us for bowling at Perfect Games for $2 games.
URL:https://thearcstory.org/event/bowling-50/
LOCATION:Perfect Games\, 1320 Dickinson Ave\, Ames\, IA\, 50014\, United States
END:VEVENT
BEGIN:VEVENT
DTSTART;TZID=UTC:20230522T173000
DTEND;TZID=UTC:20230522T183000
DTSTAMP:20260425T114746
CREATED:20230501T201938Z
LAST-MODIFIED:20230501T201938Z
UID:5527-1684776600-1684780200@thearcstory.org
SUMMARY:Track & Field
DESCRIPTION:Join us at the ISU outdoor track to keep practicing for State coming up this weekend!
URL:https://thearcstory.org/event/track-field-4/
LOCATION:IA
END:VEVENT
END:VCALENDAR