BEGIN:VCALENDAR
VERSION:2.0
PRODID:-//Arc of Story County - ECPv6.15.20//NONSGML v1.0//EN
CALSCALE:GREGORIAN
METHOD:PUBLISH
X-WR-CALNAME:Arc of Story County
X-ORIGINAL-URL:https://thearcstory.org
X-WR-CALDESC:Events for Arc of Story County
REFRESH-INTERVAL;VALUE=DURATION:PT1H
X-Robots-Tag:noindex
X-PUBLISHED-TTL:PT1H
BEGIN:VTIMEZONE
TZID:UTC
BEGIN:STANDARD
TZOFFSETFROM:+0000
TZOFFSETTO:+0000
TZNAME:UTC
DTSTART:20220101T000000
END:STANDARD
END:VTIMEZONE
BEGIN:VEVENT
DTSTART;TZID=UTC:20230508T143000
DTEND;TZID=UTC:20230508T170000
DTSTAMP:20260425T131249
CREATED:20230501T200738Z
LAST-MODIFIED:20230501T200738Z
UID:5513-1683556200-1683565200@thearcstory.org
SUMMARY:Bowling
DESCRIPTION:Join us for bowling at Perfect Games for $2 games.
URL:https://thearcstory.org/event/bowling-48/
LOCATION:Perfect Games\, 1320 Dickinson Ave\, Ames\, IA\, 50014\, United States
END:VEVENT
BEGIN:VEVENT
DTSTART;TZID=UTC:20230508T173000
DTEND;TZID=UTC:20230508T183000
DTSTAMP:20260425T131249
CREATED:20230501T201845Z
LAST-MODIFIED:20230501T201845Z
UID:5523-1683567000-1683570600@thearcstory.org
SUMMARY:Track & Field
DESCRIPTION:Join us at the ISU outdoor track to keep practicing for State coming up this month!
URL:https://thearcstory.org/event/track-field-2/
LOCATION:IA
END:VEVENT
END:VCALENDAR